BEGIN:VCALENDAR
PRODID:-//Microsoft Corporation//Outlook 14.0 MIMEDIR//EN
VERSION:2.0
METHOD:PUBLISH
X-MS-OLK-FORCEINSPECTOROPEN:TRUE
BEGIN:VTIMEZONE
TZID:New Zealand Standard Time
BEGIN:STANDARD
DTSTART:16010401T030000
RRULE:FREQ=YEARLY;BYDAY=1SU;BYMONTH=4
TZOFFSETFROM:+1300
TZOFFSETTO:+1200
END:STANDARD
BEGIN:DAYLIGHT
DTSTART:16010930T020000
RRULE:FREQ=YEARLY;BYDAY=-1SU;BYMONTH=9
TZOFFSETFROM:+1200
TZOFFSETTO:+1300
END:DAYLIGHT
END:VTIMEZONE
BEGIN:VEVENT
CLASS:PUBLIC
CREATED:20170728T005718Z
DESCRIPTION:A guided tour of Waikaraka Park with Colin Freland. After 50 ye
	ars as a player and St John Zambuk\, Colin discusses its history and champ
	ions.\n\nhttp://www.heritagefestival.co.nz/\n\n
DTEND;TZID="New Zealand Standard Time":20171012T113000
DTSTAMP:20170728T005718Z
DTSTART;TZID="New Zealand Standard Time":20171012T100000
LAST-MODIFIED:20170728T005718Z
LOCATION:Corner of Neilson Street and Alfred Street by cemetery gate\, Waik
	araka Park\, Onehunga
PRIORITY:5
SEQUENCE:0
SUMMARY;LANGUAGE=en-nz:Onehunga Presents: Waikaraka Park
TRANSP:OPAQUE
UID:040000008200E00074C5B7101A82E008000000000019770BA107D301000000000000000
	010000000A343A9A881868D48B7A4F489B22DA880
X-ALT-DESC;FMTTYPE=text/html:<!DOCTYPE HTML PUBLIC "-//W3C//DTD HTML 3.2//E
	N">\n<HTML>\n<HEAD>\n<META NAME="Generator" CONTENT="MS Exchange Server ve
	rsion 14.02.5004.000">\n<TITLE></TITLE>\n</HEAD>\n<BODY>\n<!-- Converted f
	rom text/rtf format -->\n\n<P DIR=LTR><SPAN LANG="en-nz"></SPAN><SPAN LANG
	="en-nz"><FONT FACE="Arial">A guided tour of Waikaraka Park with Colin Fre
	land. After 50 years as a player and St John Zambuk\, Colin discusses its 
	history and champions.</FONT></SPAN><SPAN LANG="en-nz"></SPAN><SPAN LANG="
	en-nz"></SPAN></P>\n\n<P DIR=LTR><SPAN LANG="en-nz"></SPAN><A HREF="http:/
	/www.heritagefestival.co.nz/"><SPAN LANG="en-nz"></SPAN><SPAN LANG="en-nz"
	><U><FONT COLOR="#0000FF" FACE="Arial">http://www.heritagefestival.co.nz/<
	/FONT></U></SPAN><SPAN LANG="en-nz"></SPAN></A><SPAN LANG="en-nz"></SPAN><
	SPAN LANG="en-nz"></SPAN></P>\n\n<P DIR=LTR><SPAN LANG="en-nz"></SPAN><SPA
	N LANG="en-nz"></SPAN></P>\n\n</BODY>\n</HTML>
X-MICROSOFT-CDO-BUSYSTATUS:BUSY
X-MICROSOFT-CDO-IMPORTANCE:1
X-MICROSOFT-DISALLOW-COUNTER:FALSE
X-MS-OLK-AUTOFILLLOCATION:FALSE
X-MS-OLK-CONFTYPE:0
BEGIN:VALARM
TRIGGER:-PT15M
ACTION:DISPLAY
DESCRIPTION:Reminder
END:VALARM
END:VEVENT
END:VCALENDAR
