BEGIN:VCALENDAR
PRODID:-//Microsoft Corporation//Outlook 14.0 MIMEDIR//EN
VERSION:2.0
METHOD:PUBLISH
X-MS-OLK-FORCEINSPECTOROPEN:TRUE
BEGIN:VTIMEZONE
TZID:New Zealand Standard Time
BEGIN:STANDARD
DTSTART:16010401T030000
RRULE:FREQ=YEARLY;BYDAY=1SU;BYMONTH=4
TZOFFSETFROM:+1300
TZOFFSETTO:+1200
END:STANDARD
BEGIN:DAYLIGHT
DTSTART:16010930T020000
RRULE:FREQ=YEARLY;BYDAY=-1SU;BYMONTH=9
TZOFFSETFROM:+1200
TZOFFSETTO:+1300
END:DAYLIGHT
END:VTIMEZONE
BEGIN:VEVENT
CLASS:PUBLIC
CREATED:20170802T010345Z
DESCRIPTION:Head off the beaten track to see Oratia from a different perspe
	ctive. Visit a local orchard\, cemetery and Folk Museum.\n\nhttp://www.her
	itagefestival.co.nz/\n\n\n
DTEND;TZID="New Zealand Standard Time":20171001T150000
DTSTAMP:20170802T010345Z
DTSTART;TZID="New Zealand Standard Time":20171001T130000
LAST-MODIFIED:20170802T010345Z
LOCATION:567 West Coast Road\, Meet at Oratia Settlers Hall\, Oratia
PRIORITY:5
SEQUENCE:0
SUMMARY;LANGUAGE=en-nz:Oratia Wild Walk: Guided Walk with Downloadable Map 
	and Audio Soundtrack
TRANSP:OPAQUE
UID:040000008200E00074C5B7101A82E0080000000060FE0BC68F0BD301000000000000000
	010000000AC4D98C1F4C5A74AB94BBEB5F46605FD
X-ALT-DESC;FMTTYPE=text/html:<!DOCTYPE HTML PUBLIC "-//W3C//DTD HTML 3.2//E
	N">\n<HTML>\n<HEAD>\n<META NAME="Generator" CONTENT="MS Exchange Server ve
	rsion 14.02.5004.000">\n<TITLE></TITLE>\n</HEAD>\n<BODY>\n<!-- Converted f
	rom text/rtf format -->\n\n<P DIR=LTR><SPAN LANG="en-nz"></SPAN><SPAN LANG
	="en-nz"><FONT FACE="Arial">Head off the beaten track to see Oratia from a
	 different perspective. Visit a local orchard\, cemetery and Folk Museum.<
	/FONT></SPAN></P>\n\n<P DIR=LTR><SPAN LANG="en-nz"></SPAN><A HREF="http://
	www.heritagefestival.co.nz/"><SPAN LANG="en-nz"></SPAN><SPAN LANG="en-nz">
	<U><FONT COLOR="#0000FF" FACE="Arial">http://www.heritagefestival.co.nz/</
	FONT></U></SPAN><SPAN LANG="en-nz"></SPAN></A><SPAN LANG="en-nz"></SPAN><S
	PAN LANG="en-nz"></SPAN></P>\n\n<P DIR=LTR><SPAN LANG="en-nz"></SPAN><SPAN
	 LANG="en-nz"></SPAN></P>\n\n<P DIR=LTR><SPAN LANG="en-nz"></SPAN><SPAN LA
	NG="en-nz"></SPAN></P>\n\n</BODY>\n</HTML>
X-MICROSOFT-CDO-BUSYSTATUS:BUSY
X-MICROSOFT-CDO-IMPORTANCE:1
X-MICROSOFT-DISALLOW-COUNTER:FALSE
X-MS-OLK-AUTOFILLLOCATION:FALSE
X-MS-OLK-CONFTYPE:0
BEGIN:VALARM
TRIGGER:-PT15M
ACTION:DISPLAY
DESCRIPTION:Reminder
END:VALARM
END:VEVENT
END:VCALENDAR
