BEGIN:VCALENDAR
PRODID:-//Microsoft Corporation//Outlook 14.0 MIMEDIR//EN
VERSION:2.0
METHOD:PUBLISH
X-MS-OLK-FORCEINSPECTOROPEN:TRUE
BEGIN:VTIMEZONE
TZID:New Zealand Standard Time
BEGIN:STANDARD
DTSTART:16010401T030000
RRULE:FREQ=YEARLY;BYDAY=1SU;BYMONTH=4
TZOFFSETFROM:+1300
TZOFFSETTO:+1200
END:STANDARD
BEGIN:DAYLIGHT
DTSTART:16010930T020000
RRULE:FREQ=YEARLY;BYDAY=-1SU;BYMONTH=9
TZOFFSETFROM:+1200
TZOFFSETTO:+1300
END:DAYLIGHT
END:VTIMEZONE
BEGIN:VEVENT
CLASS:PUBLIC
CREATED:20170801T205900Z
DESCRIPTION:Wednesday 4 October\, Saturday 7 October and Wednesday 11 Octob
	er\, 10am-2pm\n\nVisit the Ōtāhuhu Historical Society to view a display 
	from the transport archives\, including the Ron Queenin collection of mode
	l buses.\n\nhttp://www.heritagefestival.co.nz/\n\n
DTEND;TZID="New Zealand Standard Time":20171011T140000
DTSTAMP:20170801T205900Z
DTSTART;TZID="New Zealand Standard Time":20171004T100000
LAST-MODIFIED:20170801T205900Z
LOCATION:12-16 High Street\, Ōtāhuhu Historical Society Rooms\, Ōtāhuhu
PRIORITY:5
SEQUENCE:0
SUMMARY;LANGUAGE=en-nz:Ōtāhuhu: Waka and Paddlewheels to Rail and Roads
TRANSP:OPAQUE
UID:040000008200E00074C5B7101A82E00800000000B0270E956D0BD301000000000000000
	0100000004E22F6EA72DCE6429A288EFEDABF0CF0
X-ALT-DESC;FMTTYPE=text/html:<!DOCTYPE HTML PUBLIC "-//W3C//DTD HTML 3.2//E
	N">\n<HTML>\n<HEAD>\n<META NAME="Generator" CONTENT="MS Exchange Server ve
	rsion 14.02.5004.000">\n<TITLE></TITLE>\n</HEAD>\n<BODY>\n<!-- Converted f
	rom text/rtf format -->\n\n<P DIR=LTR><SPAN LANG="en-nz"></SPAN><SPAN LANG
	="en-nz"><FONT FACE="Arial">Wednesday 4 October\, Saturday 7 October and W
	ednesday 11 October\, 10am-2pm</FONT></SPAN></P>\n\n<P DIR=LTR><SPAN LANG=
	"en-nz"></SPAN><SPAN LANG="en-nz"><FONT FACE="Arial Baltic">Visit the Ōt
	āhuhu Historical Society to view a display from the transport archives\, 
	including the Ron Queenin collection of model buses.</FONT></SPAN></P>\n\n
	<P DIR=LTR><SPAN LANG="en-nz"></SPAN><SPAN LANG="en-nz"></SPAN></P>\n\n<P 
	DIR=LTR><SPAN LANG="en-nz"></SPAN><A HREF="http://www.heritagefestival.co.
	nz/"><SPAN LANG="en-nz"></SPAN><SPAN LANG="en-nz"><U><FONT COLOR="#0000FF"
	 FACE="Arial">http://www.heritagefestival.co.nz/</FONT></U></SPAN><SPAN LA
	NG="en-nz"></SPAN></A><SPAN LANG="en-nz"></SPAN><SPAN LANG="en-nz"></SPAN>
	</P>\n\n<P DIR=LTR><SPAN LANG="en-nz"></SPAN><SPAN LANG="en-nz"></SPAN></P
	>\n\n</BODY>\n</HTML>
X-MICROSOFT-CDO-BUSYSTATUS:BUSY
X-MICROSOFT-CDO-IMPORTANCE:1
X-MICROSOFT-DISALLOW-COUNTER:FALSE
X-MS-OLK-AUTOFILLLOCATION:FALSE
X-MS-OLK-CONFTYPE:0
BEGIN:VALARM
TRIGGER:-PT15M
ACTION:DISPLAY
DESCRIPTION:Reminder
END:VALARM
END:VEVENT
END:VCALENDAR
