BEGIN:VCALENDAR
PRODID:-//Microsoft Corporation//Outlook 14.0 MIMEDIR//EN
VERSION:2.0
METHOD:PUBLISH
X-MS-OLK-FORCEINSPECTOROPEN:TRUE
BEGIN:VTIMEZONE
TZID:New Zealand Standard Time
BEGIN:STANDARD
DTSTART:16010401T030000
RRULE:FREQ=YEARLY;BYDAY=1SU;BYMONTH=4
TZOFFSETFROM:+1300
TZOFFSETTO:+1200
END:STANDARD
BEGIN:DAYLIGHT
DTSTART:16010930T020000
RRULE:FREQ=YEARLY;BYDAY=-1SU;BYMONTH=9
TZOFFSETFROM:+1200
TZOFFSETTO:+1300
END:DAYLIGHT
END:VTIMEZONE
BEGIN:VEVENT
CLASS:PUBLIC
CREATED:20170801T202940Z
DESCRIPTION:Join Auckland Council Principal Heritage Advisor George Farrant
	 for a delightful morning of history and good food at Pah Homestead.\n\nht
	tp://www.heritagefestival.co.nz/\n\n
DTEND;TZID="New Zealand Standard Time":20171008T120000
DTSTAMP:20170801T202940Z
DTSTART;TZID="New Zealand Standard Time":20171008T100000
LAST-MODIFIED:20170801T202940Z
LOCATION:72 Hillsborough Road\, Pah Homestead\, TSB Bank Wallace Arts Centr
	e\, Hillsborough
PRIORITY:5
SEQUENCE:0
SUMMARY;LANGUAGE=en-nz:Pah Homestead Tour and Morning Tea
TRANSP:OPAQUE
UID:040000008200E00074C5B7101A82E00800000000807C427C690BD301000000000000000
	01000000059A11BD653CA6F45B1A185A60D3A3443
X-ALT-DESC;FMTTYPE=text/html:<!DOCTYPE HTML PUBLIC "-//W3C//DTD HTML 3.2//E
	N">\n<HTML>\n<HEAD>\n<META NAME="Generator" CONTENT="MS Exchange Server ve
	rsion 14.02.5004.000">\n<TITLE></TITLE>\n</HEAD>\n<BODY>\n<!-- Converted f
	rom text/rtf format -->\n\n<P DIR=LTR><SPAN LANG="en-nz"></SPAN><SPAN LANG
	="en-nz"><FONT FACE="Arial">Join Auckland Council Principal Heritage Advis
	or George Farrant for a delightful morning of history and good food at Pah
	 Homestead.</FONT></SPAN></P>\n\n<P DIR=LTR><SPAN LANG="en-nz"></SPAN><A H
	REF="http://www.heritagefestival.co.nz/"><SPAN LANG="en-nz"></SPAN><SPAN L
	ANG="en-nz"><U><FONT COLOR="#0000FF" FACE="Arial">http://www.heritagefesti
	val.co.nz/</FONT></U></SPAN><SPAN LANG="en-nz"></SPAN></A><SPAN LANG="en-n
	z"></SPAN><SPAN LANG="en-nz"></SPAN></P>\n\n<P DIR=LTR><SPAN LANG="en-nz">
	</SPAN><SPAN LANG="en-nz"></SPAN></P>\n\n</BODY>\n</HTML>
X-MICROSOFT-CDO-BUSYSTATUS:BUSY
X-MICROSOFT-CDO-IMPORTANCE:1
X-MICROSOFT-DISALLOW-COUNTER:FALSE
X-MS-OLK-AUTOFILLLOCATION:FALSE
X-MS-OLK-CONFTYPE:0
BEGIN:VALARM
TRIGGER:-PT15M
ACTION:DISPLAY
DESCRIPTION:Reminder
END:VALARM
END:VEVENT
END:VCALENDAR
