BEGIN:VCALENDAR
PRODID:-//Microsoft Corporation//Outlook 14.0 MIMEDIR//EN
VERSION:2.0
METHOD:PUBLISH
X-MS-OLK-FORCEINSPECTOROPEN:TRUE
BEGIN:VTIMEZONE
TZID:New Zealand Standard Time
BEGIN:STANDARD
DTSTART:16010401T030000
RRULE:FREQ=YEARLY;BYDAY=1SU;BYMONTH=4
TZOFFSETFROM:+1300
TZOFFSETTO:+1200
END:STANDARD
BEGIN:DAYLIGHT
DTSTART:16010930T020000
RRULE:FREQ=YEARLY;BYDAY=-1SU;BYMONTH=9
TZOFFSETFROM:+1200
TZOFFSETTO:+1300
END:DAYLIGHT
END:VTIMEZONE
BEGIN:VEVENT
CLASS:PUBLIC
CREATED:20170801T202540Z
DESCRIPTION:Join us for a day of picnics and history at Motutapu Island. Ex
	plore the World War II gun battery and play croquet on the lawn.\n\nhttp:/
	/www.heritagefestival.co.nz/\n\n\n\n\n\n
DTEND;TZID="New Zealand Standard Time":20171015T165000
DTSTAMP:20170801T202540Z
DTSTART;TZID="New Zealand Standard Time":20171015T091500
LAST-MODIFIED:20170801T202540Z
LOCATION:Motutapu Island\, Hauraki Gulf
PRIORITY:5
SEQUENCE:0
SUMMARY;LANGUAGE=en-nz:Picnic at Motutapu Island
TRANSP:OPAQUE
UID:040000008200E00074C5B7101A82E0080000000050C9D7CB670BD301000000000000000
	0100000006031C8F8F891924AB79D4F3890D87982
X-ALT-DESC;FMTTYPE=text/html:<!DOCTYPE HTML PUBLIC "-//W3C//DTD HTML 3.2//E
	N">\n<HTML>\n<HEAD>\n<META NAME="Generator" CONTENT="MS Exchange Server ve
	rsion 14.02.5004.000">\n<TITLE></TITLE>\n</HEAD>\n<BODY>\n<!-- Converted f
	rom text/rtf format -->\n\n<P DIR=LTR><SPAN LANG="en-nz"></SPAN><SPAN LANG
	="en-nz"><FONT FACE="Arial">Join us for a day of picnics and history at Mo
	tutapu Island. Explore the World War II gun battery and play croquet on th
	e lawn.</FONT></SPAN></P>\n\n<P DIR=LTR><SPAN LANG="en-nz"></SPAN><A HREF=
	"http://www.heritagefestival.co.nz/"><SPAN LANG="en-nz"></SPAN><SPAN LANG=
	"en-nz"><U><FONT COLOR="#0000FF" FACE="Arial">http://www.heritagefestival.
	co.nz/</FONT></U></SPAN><SPAN LANG="en-nz"></SPAN></A><SPAN LANG="en-nz"><
	/SPAN><SPAN LANG="en-nz"></SPAN></P>\n\n<P DIR=LTR><SPAN LANG="en-nz"></SP
	AN><SPAN LANG="en-nz"></SPAN></P>\n<BR>\n<BR>\n\n<P DIR=LTR><SPAN LANG="en
	-nz"></SPAN><SPAN LANG="en-nz"></SPAN></P>\n\n</BODY>\n</HTML>
X-MICROSOFT-CDO-BUSYSTATUS:BUSY
X-MICROSOFT-CDO-IMPORTANCE:1
X-MICROSOFT-DISALLOW-COUNTER:FALSE
X-MS-OLK-AUTOFILLLOCATION:FALSE
X-MS-OLK-CONFTYPE:0
BEGIN:VALARM
TRIGGER:-PT15M
ACTION:DISPLAY
DESCRIPTION:Reminder
END:VALARM
END:VEVENT
END:VCALENDAR
