BEGIN:VCALENDAR
PRODID:-//Microsoft Corporation//Outlook 14.0 MIMEDIR//EN
VERSION:2.0
METHOD:PUBLISH
X-MS-OLK-FORCEINSPECTOROPEN:TRUE
BEGIN:VTIMEZONE
TZID:New Zealand Standard Time
BEGIN:STANDARD
DTSTART:16010401T030000
RRULE:FREQ=YEARLY;BYDAY=1SU;BYMONTH=4
TZOFFSETFROM:+1300
TZOFFSETTO:+1200
END:STANDARD
BEGIN:DAYLIGHT
DTSTART:16010930T020000
RRULE:FREQ=YEARLY;BYDAY=-1SU;BYMONTH=9
TZOFFSETFROM:+1200
TZOFFSETTO:+1300
END:DAYLIGHT
END:VTIMEZONE
BEGIN:VEVENT
CLASS:PUBLIC
CREATED:20170801T035737Z
DESCRIPTION:Thursday 5 October\, 11am-12.30pm and 2pm-3.30pm\n\nTour the 18
	96 Bishop's Palace\, home to the Roman Catholic Bishop of Auckland and one
	 of the largest intact Victorian buildings in New Zealand.\n\nhttp://www.h
	eritagefestival.co.nz/\n\n
DTEND;TZID="New Zealand Standard Time":20171005T153000
DTSTAMP:20170801T035737Z
DTSTART;TZID="New Zealand Standard Time":20171005T110000
LAST-MODIFIED:20170801T035737Z
LOCATION:Venue disclosed on booking\, Ponsonby
PRIORITY:5
SEQUENCE:0
SUMMARY;LANGUAGE=en-nz:Ponsonby Presents: Bishop's Palace Guided Tour
TRANSP:OPAQUE
UID:040000008200E00074C5B7101A82E00800000000B08E90E5DE0AD301000000000000000
	0100000003D596EF3A47C874FA8B7AA29B27058E6
X-ALT-DESC;FMTTYPE=text/html:<!DOCTYPE HTML PUBLIC "-//W3C//DTD HTML 3.2//E
	N">\n<HTML>\n<HEAD>\n<META NAME="Generator" CONTENT="MS Exchange Server ve
	rsion 14.02.5004.000">\n<TITLE></TITLE>\n</HEAD>\n<BODY>\n<!-- Converted f
	rom text/rtf format -->\n\n<P DIR=LTR><SPAN LANG="en-nz"></SPAN><SPAN LANG
	="en-nz"><FONT FACE="Arial">Thursday 5 October\, 11am-12.30pm and 2pm-3.30
	pm</FONT></SPAN></P>\n\n<P DIR=LTR><SPAN LANG="en-nz"><FONT FACE="Arial">T
	our the 1896 Bishop's Palace\, home to the Roman Catholic Bishop of Auckla
	nd and one of the largest intact Victorian buildings in New Zealand.</FONT
	></SPAN></P>\n\n<P DIR=LTR><SPAN LANG="en-nz"></SPAN><A HREF="http://www.h
	eritagefestival.co.nz/"><SPAN LANG="en-nz"></SPAN><SPAN LANG="en-nz"><U><F
	ONT COLOR="#0000FF" FACE="Arial">http://www.heritagefestival.co.nz/</FONT>
	</U></SPAN><SPAN LANG="en-nz"></SPAN></A><SPAN LANG="en-nz"></SPAN><SPAN L
	ANG="en-nz"></SPAN></P>\n\n<P DIR=LTR><SPAN LANG="en-nz"></SPAN><SPAN LANG
	="en-nz"></SPAN></P>\n\n</BODY>\n</HTML>
X-MICROSOFT-CDO-BUSYSTATUS:BUSY
X-MICROSOFT-CDO-IMPORTANCE:1
X-MICROSOFT-DISALLOW-COUNTER:FALSE
X-MS-OLK-AUTOFILLLOCATION:FALSE
X-MS-OLK-CONFTYPE:0
BEGIN:VALARM
TRIGGER:-PT15M
ACTION:DISPLAY
DESCRIPTION:Reminder
END:VALARM
END:VEVENT
END:VCALENDAR
