BEGIN:VCALENDAR
PRODID:-//Microsoft Corporation//Outlook 14.0 MIMEDIR//EN
VERSION:2.0
METHOD:PUBLISH
X-MS-OLK-FORCEINSPECTOROPEN:TRUE
BEGIN:VTIMEZONE
TZID:New Zealand Standard Time
BEGIN:STANDARD
DTSTART:16010401T030000
RRULE:FREQ=YEARLY;BYDAY=1SU;BYMONTH=4
TZOFFSETFROM:+1300
TZOFFSETTO:+1200
END:STANDARD
BEGIN:DAYLIGHT
DTSTART:16010930T020000
RRULE:FREQ=YEARLY;BYDAY=-1SU;BYMONTH=9
TZOFFSETFROM:+1200
TZOFFSETTO:+1300
END:DAYLIGHT
END:VTIMEZONE
BEGIN:VEVENT
CLASS:PUBLIC
CREATED:20170801T004758Z
DESCRIPTION:Join historian and author Edward Bennett as he leads you throug
	h the streets of Ponsonby\, telling the stories of the area’s people and
	 places.\n\nhttp://www.heritagefestival.co.nz/\n\n\n
DTEND;TZID="New Zealand Standard Time":20171014T120000
DTSTAMP:20170801T004758Z
DTSTART;TZID="New Zealand Standard Time":20170930T100000
LAST-MODIFIED:20170801T004758Z
LOCATION:1-3 St Marys Road\, Meet outside the old Ponsonby Post Office\, Po
	nsonby
PRIORITY:5
SEQUENCE:0
SUMMARY;LANGUAGE=en-nz:Ponsonby Presents: Guided Heritage Walk of Ponsonby
TRANSP:OPAQUE
UID:040000008200E00074C5B7101A82E00800000000D06B5467C40AD301000000000000000
	01000000048699E38818A954F8E5CD08CB8D28D6C
X-ALT-DESC;FMTTYPE=text/html:<!DOCTYPE HTML PUBLIC "-//W3C//DTD HTML 3.2//E
	N">\n<HTML>\n<HEAD>\n<META NAME="Generator" CONTENT="MS Exchange Server ve
	rsion 14.02.5004.000">\n<TITLE></TITLE>\n</HEAD>\n<BODY>\n<!-- Converted f
	rom text/rtf format -->\n\n<P DIR=LTR><SPAN LANG="en-nz"></SPAN><SPAN LANG
	="en-nz"><FONT FACE="Arial">Join historian and author Edward Bennett as he
	 leads you through the streets of Ponsonby\, telling the stories of the ar
	ea’s people and places.</FONT></SPAN></P>\n\n<P DIR=LTR><SPAN LANG="en-n
	z"></SPAN><A HREF="http://www.heritagefestival.co.nz/"><SPAN LANG="en-nz">
	</SPAN><SPAN LANG="en-nz"><U><FONT COLOR="#0000FF" FACE="Arial">http://www
	.heritagefestival.co.nz/</FONT></U></SPAN><SPAN LANG="en-nz"></SPAN></A><S
	PAN LANG="en-nz"></SPAN><SPAN LANG="en-nz"></SPAN></P>\n\n<P DIR=LTR><SPAN
	 LANG="en-nz"></SPAN><SPAN LANG="en-nz"></SPAN></P>\n\n<P DIR=LTR><SPAN LA
	NG="en-nz"></SPAN><SPAN LANG="en-nz"></SPAN></P>\n\n</BODY>\n</HTML>
X-MICROSOFT-CDO-BUSYSTATUS:BUSY
X-MICROSOFT-CDO-IMPORTANCE:1
X-MICROSOFT-DISALLOW-COUNTER:FALSE
X-MS-OLK-AUTOFILLLOCATION:FALSE
X-MS-OLK-CONFTYPE:0
BEGIN:VALARM
TRIGGER:-PT15M
ACTION:DISPLAY
DESCRIPTION:Reminder
END:VALARM
END:VEVENT
END:VCALENDAR
