BEGIN:VCALENDAR
PRODID:-//Microsoft Corporation//Outlook 14.0 MIMEDIR//EN
VERSION:2.0
METHOD:PUBLISH
X-MS-OLK-FORCEINSPECTOROPEN:TRUE
BEGIN:VTIMEZONE
TZID:New Zealand Standard Time
BEGIN:STANDARD
DTSTART:16010401T030000
RRULE:FREQ=YEARLY;BYDAY=1SU;BYMONTH=4
TZOFFSETFROM:+1300
TZOFFSETTO:+1200
END:STANDARD
BEGIN:DAYLIGHT
DTSTART:16010930T020000
RRULE:FREQ=YEARLY;BYDAY=-1SU;BYMONTH=9
TZOFFSETFROM:+1200
TZOFFSETTO:+1300
END:DAYLIGHT
END:VTIMEZONE
BEGIN:VEVENT
CLASS:PUBLIC
CREATED:20170801T201022Z
DESCRIPTION:Join us for a tour of Ponsonby's historic churches and experien
	ce a brief organ recital on one of Australasia's oldest organs.\n\nhttp://
	www.heritagefestival.co.nz/\n\n\n\n\n\n
DTEND;TZID="New Zealand Standard Time":20171014T153000
DTSTAMP:20170801T201022Z
DTSTART;TZID="New Zealand Standard Time":20171014T133000
LAST-MODIFIED:20170801T201022Z
LOCATION:229A Ponsonby Road\, Meet outside St John's Church\, Ponsonby
PRIORITY:5
SEQUENCE:0
SUMMARY;LANGUAGE=en-nz:Ponsonby Presents: Guided Walk of Churches in Ponson
	by
TRANSP:OPAQUE
UID:040000008200E00074C5B7101A82E00800000000B028B7C9660BD301000000000000000
	010000000F334B26F7D8E864F84F26A70BF406DE4
X-ALT-DESC;FMTTYPE=text/html:<!DOCTYPE HTML PUBLIC "-//W3C//DTD HTML 3.2//E
	N">\n<HTML>\n<HEAD>\n<META NAME="Generator" CONTENT="MS Exchange Server ve
	rsion 14.02.5004.000">\n<TITLE></TITLE>\n</HEAD>\n<BODY>\n<!-- Converted f
	rom text/rtf format -->\n\n<P DIR=LTR><SPAN LANG="en-nz"></SPAN><SPAN LANG
	="en-nz"><FONT FACE="Arial">Join us for a tour of Ponsonby's historic chur
	ches and experience a brief organ recital on one of Australasia's oldest o
	rgans.</FONT></SPAN></P>\n\n<P DIR=LTR><SPAN LANG="en-nz"></SPAN><A HREF="
	http://www.heritagefestival.co.nz/"><SPAN LANG="en-nz"></SPAN><SPAN LANG="
	en-nz"><U><FONT COLOR="#0000FF" FACE="Arial">http://www.heritagefestival.c
	o.nz/</FONT></U></SPAN><SPAN LANG="en-nz"></SPAN></A><SPAN LANG="en-nz"></
	SPAN><SPAN LANG="en-nz"></SPAN></P>\n\n<P DIR=LTR><SPAN LANG="en-nz"></SPA
	N><SPAN LANG="en-nz"></SPAN></P>\n<BR>\n<BR>\n\n<P DIR=LTR><SPAN LANG="en-
	nz"></SPAN><SPAN LANG="en-nz"></SPAN></P>\n\n</BODY>\n</HTML>
X-MICROSOFT-CDO-BUSYSTATUS:BUSY
X-MICROSOFT-CDO-IMPORTANCE:1
X-MICROSOFT-DISALLOW-COUNTER:FALSE
X-MS-OLK-AUTOFILLLOCATION:FALSE
X-MS-OLK-CONFTYPE:0
BEGIN:VALARM
TRIGGER:-PT15M
ACTION:DISPLAY
DESCRIPTION:Reminder
END:VALARM
END:VEVENT
END:VCALENDAR
