BEGIN:VCALENDAR
PRODID:-//Microsoft Corporation//Outlook 14.0 MIMEDIR//EN
VERSION:2.0
METHOD:PUBLISH
X-MS-OLK-FORCEINSPECTOROPEN:TRUE
BEGIN:VTIMEZONE
TZID:New Zealand Standard Time
BEGIN:STANDARD
DTSTART:16010401T030000
RRULE:FREQ=YEARLY;BYDAY=1SU;BYMONTH=4
TZOFFSETFROM:+1300
TZOFFSETTO:+1200
END:STANDARD
BEGIN:DAYLIGHT
DTSTART:16010930T020000
RRULE:FREQ=YEARLY;BYDAY=-1SU;BYMONTH=9
TZOFFSETFROM:+1200
TZOFFSETTO:+1300
END:DAYLIGHT
END:VTIMEZONE
BEGIN:VEVENT
CLASS:PUBLIC
CREATED:20170802T015409Z
DESCRIPTION:It’s been 50 years since the legendary ‘six o'clock swill
	’ ended. Join Brian McDonnell for a talk that celebrates the heritage of
	 pubs in Auckland.\n\nhttp://www.heritagefestival.co.nz/\n\n
DTEND;TZID="New Zealand Standard Time":20171005T193000
DTSTAMP:20170802T015409Z
DTSTART;TZID="New Zealand Standard Time":20171005T183000
LAST-MODIFIED:20170802T015409Z
LOCATION:20 St Marys Road\, Leys Institute Library\, Ponsonby
PRIORITY:5
SEQUENCE:0
SUMMARY;LANGUAGE=en-nz:Ponsonby Presents: From the 'six o’clock swill' to
	 Quiz Night - Auckland’s Treasured Old Pubs
TRANSP:OPAQUE
UID:040000008200E00074C5B7101A82E0080000000070A160D0960BD301000000000000000
	0100000007A71F35E7993EB479F7B300E06005612
X-ALT-DESC;FMTTYPE=text/html:<!DOCTYPE HTML PUBLIC "-//W3C//DTD HTML 3.2//E
	N">\n<HTML>\n<HEAD>\n<META NAME="Generator" CONTENT="MS Exchange Server ve
	rsion 14.02.5004.000">\n<TITLE></TITLE>\n</HEAD>\n<BODY>\n<!-- Converted f
	rom text/rtf format -->\n\n<P DIR=LTR><SPAN LANG="en-nz"></SPAN><SPAN LANG
	="en-nz"><FONT FACE="Arial">It’s been 50 years since the legendary ‘si
	x o'clock swill’ ended. Join Brian McDonnell for a talk that celebrates 
	the heritage of pubs in Auckland.</FONT></SPAN></P>\n\n<P DIR=LTR><SPAN LA
	NG="en-nz"></SPAN><A HREF="http://www.heritagefestival.co.nz/"><SPAN LANG=
	"en-nz"></SPAN><SPAN LANG="en-nz"><U><FONT COLOR="#0000FF" FACE="Arial">ht
	tp://www.heritagefestival.co.nz/</FONT></U></SPAN><SPAN LANG="en-nz"></SPA
	N></A><SPAN LANG="en-nz"></SPAN><SPAN LANG="en-nz"></SPAN></P>\n\n<P DIR=L
	TR><SPAN LANG="en-nz"></SPAN><SPAN LANG="en-nz"></SPAN></P>\n\n</BODY>\n</
	HTML>
X-MICROSOFT-CDO-BUSYSTATUS:BUSY
X-MICROSOFT-CDO-IMPORTANCE:1
X-MICROSOFT-DISALLOW-COUNTER:FALSE
X-MS-OLK-AUTOFILLLOCATION:FALSE
X-MS-OLK-CONFTYPE:0
BEGIN:VALARM
TRIGGER:-PT15M
ACTION:DISPLAY
DESCRIPTION:Reminder
END:VALARM
END:VEVENT
END:VCALENDAR
