BEGIN:VCALENDAR
PRODID:-//Microsoft Corporation//Outlook 14.0 MIMEDIR//EN
VERSION:2.0
METHOD:PUBLISH
X-MS-OLK-FORCEINSPECTOROPEN:TRUE
BEGIN:VTIMEZONE
TZID:New Zealand Standard Time
BEGIN:STANDARD
DTSTART:16010401T030000
RRULE:FREQ=YEARLY;BYDAY=1SU;BYMONTH=4
TZOFFSETFROM:+1300
TZOFFSETTO:+1200
END:STANDARD
BEGIN:DAYLIGHT
DTSTART:16010930T020000
RRULE:FREQ=YEARLY;BYDAY=-1SU;BYMONTH=9
TZOFFSETFROM:+1200
TZOFFSETTO:+1300
END:DAYLIGHT
END:VTIMEZONE
BEGIN:VEVENT
CLASS:PUBLIC
CREATED:20170802T001120Z
DESCRIPTION:Sunday 8 October and Saturday 14 October\, 1.30pm-4.30pm\n\nTak
	e this guided food tour and reminisce about some of the eateries from yest
	eryear that helped define Ponsonby's cool. Includes food and drink.\n\nhtt
	p://www.heritagefestival.co.nz/\n\n\n
DTEND;TZID="New Zealand Standard Time":20171014T163000
DTSTAMP:20170802T001120Z
DTSTART;TZID="New Zealand Standard Time":20171008T133000
LAST-MODIFIED:20170802T001120Z
LOCATION:Meet on the corner of Pember Reeves Street and Ponsonby Road\, Pon
	sonby
PRIORITY:5
SEQUENCE:0
SUMMARY;LANGUAGE=en-nz:Ponsonby Presents: Taste Ponsonby History
TRANSP:OPAQUE
UID:040000008200E00074C5B7101A82E00800000000A00FB573880BD301000000000000000
	01000000029ADAE5B4FF3DC4CAA158742123D30A2
X-ALT-DESC;FMTTYPE=text/html:<!DOCTYPE HTML PUBLIC "-//W3C//DTD HTML 3.2//E
	N">\n<HTML>\n<HEAD>\n<META NAME="Generator" CONTENT="MS Exchange Server ve
	rsion 14.02.5004.000">\n<TITLE></TITLE>\n</HEAD>\n<BODY>\n<!-- Converted f
	rom text/rtf format -->\n\n<P DIR=LTR><SPAN LANG="en-nz"></SPAN><SPAN LANG
	="en-nz"><FONT FACE="Arial">Sunday 8 October and Saturday 14 October\, 1.3
	0pm-4.30pm</FONT></SPAN></P>\n\n<P DIR=LTR><SPAN LANG="en-nz"><FONT FACE="
	Arial">Take this guided food tour and reminisce about some of the eateries
	 from yesteryear that helped define Ponsonby's cool. Includes food and dri
	nk.</FONT></SPAN></P>\n\n<P DIR=LTR><SPAN LANG="en-nz"></SPAN><A HREF="htt
	p://www.heritagefestival.co.nz/"><SPAN LANG="en-nz"></SPAN><SPAN LANG="en-
	nz"><U><FONT COLOR="#0000FF" FACE="Arial">http://www.heritagefestival.co.n
	z/</FONT></U></SPAN><SPAN LANG="en-nz"></SPAN></A><SPAN LANG="en-nz"></SPA
	N><SPAN LANG="en-nz"></SPAN></P>\n\n<P DIR=LTR><SPAN LANG="en-nz"></SPAN><
	SPAN LANG="en-nz"></SPAN></P>\n\n<P DIR=LTR><SPAN LANG="en-nz"></SPAN><SPA
	N LANG="en-nz"></SPAN></P>\n\n</BODY>\n</HTML>
X-MICROSOFT-CDO-BUSYSTATUS:BUSY
X-MICROSOFT-CDO-IMPORTANCE:1
X-MICROSOFT-DISALLOW-COUNTER:FALSE
X-MS-OLK-AUTOFILLLOCATION:FALSE
X-MS-OLK-CONFTYPE:0
BEGIN:VALARM
TRIGGER:-PT15M
ACTION:DISPLAY
DESCRIPTION:Reminder
END:VALARM
END:VEVENT
END:VCALENDAR
