BEGIN:VCALENDAR
PRODID:-//Microsoft Corporation//Outlook 14.0 MIMEDIR//EN
VERSION:2.0
METHOD:PUBLISH
X-MS-OLK-FORCEINSPECTOROPEN:TRUE
BEGIN:VTIMEZONE
TZID:New Zealand Standard Time
BEGIN:STANDARD
DTSTART:16010401T030000
RRULE:FREQ=YEARLY;BYDAY=1SU;BYMONTH=4
TZOFFSETFROM:+1300
TZOFFSETTO:+1200
END:STANDARD
BEGIN:DAYLIGHT
DTSTART:16010930T020000
RRULE:FREQ=YEARLY;BYDAY=-1SU;BYMONTH=9
TZOFFSETFROM:+1200
TZOFFSETTO:+1300
END:DAYLIGHT
END:VTIMEZONE
BEGIN:VEVENT
CLASS:PUBLIC
CREATED:20170801T031754Z
DESCRIPTION:Saturday 30 September - Sunday 15 October\, Saturday - Sunday 1
	0am\, 12.30pm and 2.30pm\n\nCelebrate Auckland's rich maritime heritage an
	d explore the Waitematā Harbour on a 90-minute cruise aboard the 82-yea
	r-old steam tug\, William C Daldy.\n\nhttp://www.heritagefestival.co.nz/\n
	\n
DTEND;TZID="New Zealand Standard Time":20171015T143000
DTSTAMP:20170801T031754Z
DTSTART;TZID="New Zealand Standard Time":20170930T100000
LAST-MODIFIED:20170801T031754Z
LOCATION:Corner of Quay Street and Hobson Street\, William C Daldy\, Hobson
	 Wharf West\, Viaduct Harbour
PRIORITY:5
SEQUENCE:0
SUMMARY;LANGUAGE=en-nz:Ports of Auckland Heritage Tugboat Sailings
TRANSP:OPAQUE
UID:040000008200E00074C5B7101A82E00800000000D0C93F59D90AD301000000000000000
	01000000062BC8C80216A934CA4E64F0D5F5DD850
X-ALT-DESC;FMTTYPE=text/html:<!DOCTYPE HTML PUBLIC "-//W3C//DTD HTML 3.2//E
	N">\n<HTML>\n<HEAD>\n<META NAME="Generator" CONTENT="MS Exchange Server ve
	rsion 14.02.5004.000">\n<TITLE></TITLE>\n</HEAD>\n<BODY>\n<!-- Converted f
	rom text/rtf format -->\n\n<P DIR=LTR><SPAN LANG="en-nz"></SPAN><SPAN LANG
	="en-nz"><FONT FACE="Arial">Saturday 30 September - Sunday 15 October\, Sa
	turday - Sunday 10am\, 12.30pm and 2.30pm</FONT></SPAN><SPAN LANG="en-nz">
	</SPAN><SPAN LANG="en-nz"><BR>\n<BR>\n</SPAN><SPAN LANG="en-nz"></SPAN><SP
	AN LANG="en-nz"><FONT FACE="Arial Baltic">Celebrate Auckland's rich mariti
	me heritage and explore the Waitematā</FONT></SPAN><SPAN LANG="en-nz"></S
	PAN><SPAN LANG="en-nz"><FONT FACE="Arial"></FONT></SPAN><SPAN LANG="en-n
	z"></SPAN><SPAN LANG="en-nz"><FONT FACE="Arial"> Harbour on a 90-minute cr
	uise aboard the 82-year-old steam tug\, William C Daldy.</FONT></SPAN></P>
	\n\n<P DIR=LTR><SPAN LANG="en-nz"></SPAN><A HREF="http://www.heritagefesti
	val.co.nz/"><SPAN LANG="en-nz"></SPAN><SPAN LANG="en-nz"><U><FONT COLOR="#
	0000FF" FACE="Arial">http://www.heritagefestival.co.nz/</FONT></U></SPAN><
	SPAN LANG="en-nz"></SPAN></A><SPAN LANG="en-nz"></SPAN><SPAN LANG="en-nz">
	</SPAN></P>\n\n<P DIR=LTR><SPAN LANG="en-nz"></SPAN><SPAN LANG="en-nz"></S
	PAN></P>\n\n</BODY>\n</HTML>
X-MICROSOFT-CDO-BUSYSTATUS:BUSY
X-MICROSOFT-CDO-IMPORTANCE:1
X-MICROSOFT-DISALLOW-COUNTER:FALSE
X-MS-OLK-AUTOFILLLOCATION:FALSE
X-MS-OLK-CONFTYPE:0
BEGIN:VALARM
TRIGGER:-PT15M
ACTION:DISPLAY
DESCRIPTION:Reminder
END:VALARM
END:VEVENT
END:VCALENDAR
