BEGIN:VCALENDAR
PRODID:-//Microsoft Corporation//Outlook 14.0 MIMEDIR//EN
VERSION:2.0
METHOD:PUBLISH
X-MS-OLK-FORCEINSPECTOROPEN:TRUE
BEGIN:VTIMEZONE
TZID:New Zealand Standard Time
BEGIN:STANDARD
DTSTART:16010401T030000
RRULE:FREQ=YEARLY;BYDAY=1SU;BYMONTH=4
TZOFFSETFROM:+1300
TZOFFSETTO:+1200
END:STANDARD
BEGIN:DAYLIGHT
DTSTART:16010930T020000
RRULE:FREQ=YEARLY;BYDAY=-1SU;BYMONTH=9
TZOFFSETFROM:+1200
TZOFFSETTO:+1300
END:DAYLIGHT
END:VTIMEZONE
BEGIN:VEVENT
CLASS:PUBLIC
CREATED:20170802T224216Z
DESCRIPTION:Saturday 30 September - Sunday 15 October\, Monday - Thursday 9
	am-7pm\, Friday 9am-5pm\, Saturday 9am-3pm\n\nNathan Homestead presents 'P
	roject Hexagon'. A quilting exhibition by over thirty contributors inspire
	d by hexagons.\n\nhttp://www.heritagefestival.co.nz/\n
DTEND;TZID="New Zealand Standard Time":20171015T190000
DTSTAMP:20170802T224216Z
DTSTART;TZID="New Zealand Standard Time":20170930T090000
LAST-MODIFIED:20170802T224216Z
LOCATION:70 Hill Road\, Nathan Homestead\, Manurewa
PRIORITY:5
SEQUENCE:0
SUMMARY;LANGUAGE=en-nz:Project Hexagon
TRANSP:OPAQUE
UID:040000008200E00074C5B7101A82E00800000000E0385D2C450CD301000000000000000
	01000000020B8DC242DE72B48BA969C60D4BE9BBD
X-ALT-DESC;FMTTYPE=text/html:<!DOCTYPE HTML PUBLIC "-//W3C//DTD HTML 3.2//E
	N">\n<HTML>\n<HEAD>\n<META NAME="Generator" CONTENT="MS Exchange Server ve
	rsion 14.02.5004.000">\n<TITLE></TITLE>\n</HEAD>\n<BODY>\n<!-- Converted f
	rom text/rtf format -->\n\n<P DIR=LTR><SPAN LANG="en-nz"></SPAN><SPAN LANG
	="en-nz"><FONT FACE="Arial">Saturday 30 September - Sunday 15 October\, Mo
	nday - Thursday 9am-7pm\, Friday 9am-5pm\, Saturday 9am-3pm</FONT></SPAN><
	/P>\n\n<P DIR=LTR><SPAN LANG="en-nz"><FONT FACE="Arial">Nathan Homestead p
	resents 'Project Hexagon'. A quilting exhibition by over thirty contributo
	rs inspired by hexagons.</FONT></SPAN></P>\n\n<P DIR=LTR><SPAN LANG="en-nz
	"></SPAN><A HREF="http://www.heritagefestival.co.nz/"><SPAN LANG="en-nz"><
	/SPAN><SPAN LANG="en-nz"><U><FONT COLOR="#0000FF" FACE="Arial">http://www.
	heritagefestival.co.nz/</FONT></U></SPAN><SPAN LANG="en-nz"></SPAN></A><SP
	AN LANG="en-nz"></SPAN><SPAN LANG="en-nz"></SPAN></P>\n\n</BODY>\n</HTML>
X-MICROSOFT-CDO-BUSYSTATUS:BUSY
X-MICROSOFT-CDO-IMPORTANCE:1
X-MICROSOFT-DISALLOW-COUNTER:FALSE
X-MS-OLK-AUTOFILLLOCATION:FALSE
X-MS-OLK-CONFTYPE:0
BEGIN:VALARM
TRIGGER:-PT15M
ACTION:DISPLAY
DESCRIPTION:Reminder
END:VALARM
END:VEVENT
END:VCALENDAR
