BEGIN:VCALENDAR
PRODID:-//Microsoft Corporation//Outlook 14.0 MIMEDIR//EN
VERSION:2.0
METHOD:PUBLISH
X-MS-OLK-FORCEINSPECTOROPEN:TRUE
BEGIN:VTIMEZONE
TZID:New Zealand Standard Time
BEGIN:STANDARD
DTSTART:16010401T030000
RRULE:FREQ=YEARLY;BYDAY=1SU;BYMONTH=4
TZOFFSETFROM:+1300
TZOFFSETTO:+1200
END:STANDARD
BEGIN:DAYLIGHT
DTSTART:16010930T020000
RRULE:FREQ=YEARLY;BYDAY=-1SU;BYMONTH=9
TZOFFSETFROM:+1200
TZOFFSETTO:+1300
END:DAYLIGHT
END:VTIMEZONE
BEGIN:VEVENT
CLASS:PUBLIC
CREATED:20170801T000433Z
DESCRIPTION:Sunday 1 October\, Sunday 8 October\, Wednesday 11 October and 
	Saturday 14 October\, 10am\n\nCome and learn about Rangitoto bach life and
	 history. Explore the Kidney Fern Glen\, walk past the remaining baches an
	d enjoy tea and scones.\n\nhttp://www.heritagefestival.co.nz/\n\n
DTEND;TZID="New Zealand Standard Time":20171014T130000
DTSTAMP:20170801T000433Z
DTSTART;TZID="New Zealand Standard Time":20171001T123000
LAST-MODIFIED:20170801T000433Z
LOCATION:Rangitoto Island\, Hauraki Gulf
PRIORITY:5
SEQUENCE:0
SUMMARY;LANGUAGE=en-nz:Rangitoto Bach Tour and Tea
TRANSP:OPAQUE
UID:040000008200E00074C5B7101A82E00800000000B0F8B256BE0AD301000000000000000
	01000000053B197A5230B404B954E95C3396A5887
X-ALT-DESC;FMTTYPE=text/html:<!DOCTYPE HTML PUBLIC "-//W3C//DTD HTML 3.2//E
	N">\n<HTML>\n<HEAD>\n<META NAME="Generator" CONTENT="MS Exchange Server ve
	rsion 14.02.5004.000">\n<TITLE></TITLE>\n</HEAD>\n<BODY>\n<!-- Converted f
	rom text/rtf format -->\n\n<P DIR=LTR><SPAN LANG="en-nz"></SPAN><SPAN LANG
	="en-nz"><FONT FACE="Arial">Sunday 1 October\, Sunday 8 October\, Wednesda
	y 11 October and Saturday 14 October\, 10am</FONT></SPAN><SPAN LANG="en-nz
	"></SPAN><SPAN LANG="en-nz"></SPAN></P>\n\n<P DIR=LTR><SPAN LANG="en-nz"><
	/SPAN><SPAN LANG="en-nz"><BR>\n</SPAN><SPAN LANG="en-nz"></SPAN><SPAN LANG
	="en-nz"><FONT FACE="Arial">Come and learn about Rangitoto bach life and h
	istory. Explore the Kidney Fern Glen\, walk past the remaining baches and 
	enjoy tea and scones.</FONT></SPAN></P>\n\n<P DIR=LTR><SPAN LANG="en-nz"><
	/SPAN><A HREF="http://www.heritagefestival.co.nz/"><SPAN LANG="en-nz"></SP
	AN><SPAN LANG="en-nz"><U><FONT COLOR="#0000FF" FACE="Arial">http://www.her
	itagefestival.co.nz/</FONT></U></SPAN><SPAN LANG="en-nz"></SPAN></A><SPAN 
	LANG="en-nz"></SPAN><SPAN LANG="en-nz"></SPAN></P>\n\n<P DIR=LTR><SPAN LAN
	G="en-nz"></SPAN><SPAN LANG="en-nz"></SPAN></P>\n\n</BODY>\n</HTML>
X-MICROSOFT-CDO-BUSYSTATUS:BUSY
X-MICROSOFT-CDO-IMPORTANCE:1
X-MICROSOFT-DISALLOW-COUNTER:FALSE
X-MS-OLK-AUTOFILLLOCATION:FALSE
X-MS-OLK-CONFTYPE:0
BEGIN:VALARM
TRIGGER:-PT15M
ACTION:DISPLAY
DESCRIPTION:Reminder
END:VALARM
END:VEVENT
END:VCALENDAR
