BEGIN:VCALENDAR
PRODID:-//Microsoft Corporation//Outlook 14.0 MIMEDIR//EN
VERSION:2.0
METHOD:PUBLISH
X-MS-OLK-FORCEINSPECTOROPEN:TRUE
BEGIN:VTIMEZONE
TZID:New Zealand Standard Time
BEGIN:STANDARD
DTSTART:16010401T030000
RRULE:FREQ=YEARLY;BYDAY=1SU;BYMONTH=4
TZOFFSETFROM:+1300
TZOFFSETTO:+1200
END:STANDARD
BEGIN:DAYLIGHT
DTSTART:16010930T020000
RRULE:FREQ=YEARLY;BYDAY=-1SU;BYMONTH=9
TZOFFSETFROM:+1200
TZOFFSETTO:+1300
END:DAYLIGHT
END:VTIMEZONE
BEGIN:VEVENT
CLASS:PUBLIC
CREATED:20170802T023342Z
DESCRIPTION:Friday 6 October and Saturday 7 October\, 10.30am-12.30pm\n\nFr
	om Rewarewa Creek to the Crown Lynn Museum\, join Robyn Mason on a tour ce
	lebrating the ceramics and clay heritage of New Lynn.\n\nhttp://www.herita
	gefestival.co.nz/\n\n
DTEND;TZID="New Zealand Standard Time":20171007T123000
DTSTAMP:20170802T023342Z
DTSTART;TZID="New Zealand Standard Time":20171006T103000
LAST-MODIFIED:20170802T023342Z
LOCATION:3 Memorial Drive\, New Lynn War Memorial Library\, New Lynn
PRIORITY:5
SEQUENCE:0
SUMMARY;LANGUAGE=en-nz:Remains of the Clay: From Waterways to Railways\, Po
	cket Parks and Pottery
TRANSP:OPAQUE
UID:040000008200E00074C5B7101A82E0080000000050870E579C0BD301000000000000000
	0100000004CB457851E5EAE489ABAEC74D5ED4648
X-ALT-DESC;FMTTYPE=text/html:<!DOCTYPE HTML PUBLIC "-//W3C//DTD HTML 3.2//E
	N">\n<HTML>\n<HEAD>\n<META NAME="Generator" CONTENT="MS Exchange Server ve
	rsion 14.02.5004.000">\n<TITLE></TITLE>\n</HEAD>\n<BODY>\n<!-- Converted f
	rom text/rtf format -->\n\n<P DIR=LTR><SPAN LANG="en-nz"></SPAN><SPAN LANG
	="en-nz"><FONT FACE="Arial">Friday 6 October and Saturday 7 October\, 10.3
	0am-12.30pm</FONT></SPAN></P>\n\n<P DIR=LTR><SPAN LANG="en-nz"><FONT FACE=
	"Arial">From Rewarewa Creek to the Crown Lynn Museum\, join Robyn Mason on
	 a tour celebrating the ceramics and clay heritage of New Lynn.</FONT></SP
	AN></P>\n\n<P DIR=LTR><SPAN LANG="en-nz"></SPAN><A HREF="http://www.herita
	gefestival.co.nz/"><SPAN LANG="en-nz"></SPAN><SPAN LANG="en-nz"><U><FONT C
	OLOR="#0000FF" FACE="Arial">http://www.heritagefestival.co.nz/</FONT></U><
	/SPAN><SPAN LANG="en-nz"></SPAN></A><SPAN LANG="en-nz"></SPAN><SPAN LANG="
	en-nz"></SPAN></P>\n\n<P DIR=LTR><SPAN LANG="en-nz"></SPAN><SPAN LANG="en-
	nz"></SPAN></P>\n\n</BODY>\n</HTML>
X-MICROSOFT-CDO-BUSYSTATUS:BUSY
X-MICROSOFT-CDO-IMPORTANCE:1
X-MICROSOFT-DISALLOW-COUNTER:FALSE
X-MS-OLK-AUTOFILLLOCATION:FALSE
X-MS-OLK-CONFTYPE:0
BEGIN:VALARM
TRIGGER:-PT15M
ACTION:DISPLAY
DESCRIPTION:Reminder
END:VALARM
END:VEVENT
END:VCALENDAR
