BEGIN:VCALENDAR
PRODID:-//Microsoft Corporation//Outlook 14.0 MIMEDIR//EN
VERSION:2.0
METHOD:PUBLISH
X-MS-OLK-FORCEINSPECTOROPEN:TRUE
BEGIN:VTIMEZONE
TZID:New Zealand Standard Time
BEGIN:STANDARD
DTSTART:16010401T030000
RRULE:FREQ=YEARLY;BYDAY=1SU;BYMONTH=4
TZOFFSETFROM:+1300
TZOFFSETTO:+1200
END:STANDARD
BEGIN:DAYLIGHT
DTSTART:16010930T020000
RRULE:FREQ=YEARLY;BYDAY=-1SU;BYMONTH=9
TZOFFSETFROM:+1200
TZOFFSETTO:+1300
END:DAYLIGHT
END:VTIMEZONE
BEGIN:VEVENT
CLASS:PUBLIC
CREATED:20170801T034830Z
DESCRIPTION:Saturday 30 September - Sunday 15 October\, 10am-4pm\n\nIn ‘R
	eminiscences’\, Sir John Logan Campbell writes about his travels. To mar
	k his bicentenary\,  the display offers insight into the realities and adv
	entures on his journeys.\n\nhttp://www.heritagefestival.co.nz/\n\n
DTEND;TZID="New Zealand Standard Time":20171015T160000
DTSTAMP:20170801T034830Z
DTSTART;TZID="New Zealand Standard Time":20170930T100000
LAST-MODIFIED:20170801T034830Z
LOCATION:Michael Horton Drive\, inside Cornwall Park. Main gate entry is Gr
	eenlane West\, Cornwall Park Information Centre-Huia Lodge\, Epsom
PRIORITY:5
SEQUENCE:0
SUMMARY;LANGUAGE=en-nz:‘Reminiscences’ - Travel and Transport in Sir Jo
	hn’s Logan Campbell's lifetime
TRANSP:OPAQUE
UID:040000008200E00074C5B7101A82E00800000000C09FBB9FDD0AD301000000000000000
	0100000003E26E9BED5013C4D8105F2198E073E34
X-ALT-DESC;FMTTYPE=text/html:<!DOCTYPE HTML PUBLIC "-//W3C//DTD HTML 3.2//E
	N">\n<HTML>\n<HEAD>\n<META NAME="Generator" CONTENT="MS Exchange Server ve
	rsion 14.02.5004.000">\n<TITLE></TITLE>\n</HEAD>\n<BODY>\n<!-- Converted f
	rom text/rtf format -->\n\n<P DIR=LTR><SPAN LANG="en-nz"></SPAN><SPAN LANG
	="en-nz"><FONT FACE="Arial">Saturday 30 September - Sunday 15 October\, 10
	am-4pm</FONT></SPAN><SPAN LANG="en-nz"></SPAN><SPAN LANG="en-nz"><BR>\n<BR
	>\n</SPAN><SPAN LANG="en-nz"></SPAN><SPAN LANG="en-nz"><FONT FACE="Arial">
	In ‘Reminiscences’\, Sir John Logan Campbell writes about his travels.
	 To mark his bicentenary\,&nbsp\; the display offers insight into the real
	ities and adventures on his journeys.</FONT></SPAN></P>\n\n<P DIR=LTR><SPA
	N LANG="en-nz"></SPAN><A HREF="http://www.heritagefestival.co.nz/"><SPAN L
	ANG="en-nz"></SPAN><SPAN LANG="en-nz"><U><FONT COLOR="#0000FF" FACE="Arial
	">http://www.heritagefestival.co.nz/</FONT></U></SPAN><SPAN LANG="en-nz"><
	/SPAN></A><SPAN LANG="en-nz"></SPAN><SPAN LANG="en-nz"></SPAN></P>\n\n<P D
	IR=LTR><SPAN LANG="en-nz"></SPAN><SPAN LANG="en-nz"></SPAN></P>\n\n</BODY>
	\n</HTML>
X-MICROSOFT-CDO-BUSYSTATUS:BUSY
X-MICROSOFT-CDO-IMPORTANCE:1
X-MICROSOFT-DISALLOW-COUNTER:FALSE
X-MS-OLK-AUTOFILLLOCATION:FALSE
X-MS-OLK-CONFTYPE:0
BEGIN:VALARM
TRIGGER:-PT15M
ACTION:DISPLAY
DESCRIPTION:Reminder
END:VALARM
END:VEVENT
END:VCALENDAR
