BEGIN:VCALENDAR
PRODID:-//Microsoft Corporation//Outlook 14.0 MIMEDIR//EN
VERSION:2.0
METHOD:PUBLISH
X-MS-OLK-FORCEINSPECTOROPEN:TRUE
BEGIN:VTIMEZONE
TZID:New Zealand Standard Time
BEGIN:STANDARD
DTSTART:16010401T030000
RRULE:FREQ=YEARLY;BYDAY=1SU;BYMONTH=4
TZOFFSETFROM:+1300
TZOFFSETTO:+1200
END:STANDARD
BEGIN:DAYLIGHT
DTSTART:16010930T020000
RRULE:FREQ=YEARLY;BYDAY=-1SU;BYMONTH=9
TZOFFSETFROM:+1200
TZOFFSETTO:+1300
END:DAYLIGHT
END:VTIMEZONE
BEGIN:VEVENT
CLASS:PUBLIC
CREATED:20170802T222308Z
DESCRIPTION:Help restore the historic Waipapa stream that runs alongside th
	e Auckland Domain. Join in with others in the restoration programme.\n\nht
	tp://www.heritagefestival.co.nz/\n\n
DTEND;TZID="New Zealand Standard Time":20170803T110000
DTSTAMP:20170802T222308Z
DTSTART;TZID="New Zealand Standard Time":20170803T103000
LAST-MODIFIED:20170802T222308Z
LOCATION:Cheshire Street\, Waipapa Stream\, Parnell
PRIORITY:5
SEQUENCE:0
SUMMARY;LANGUAGE=en-nz:Restore the Waipapa Stream
TRANSP:OPAQUE
UID:040000008200E00074C5B7101A82E0080000000020DB366E420CD301000000000000000
	0100000003E6DCDEDA41DDC4589A918E26C80B880
X-ALT-DESC;FMTTYPE=text/html:<!DOCTYPE HTML PUBLIC "-//W3C//DTD HTML 3.2//E
	N">\n<HTML>\n<HEAD>\n<META NAME="Generator" CONTENT="MS Exchange Server ve
	rsion 14.02.5004.000">\n<TITLE></TITLE>\n</HEAD>\n<BODY>\n<!-- Converted f
	rom text/rtf format -->\n\n<P DIR=LTR><SPAN LANG="en-nz"></SPAN><SPAN LANG
	="en-nz"><FONT FACE="Arial">Help restore the historic Waipapa stream that 
	runs alongside the Auckland Domain. Join in with others in the restoration
	 programme.</FONT></SPAN><SPAN LANG="en-nz"></SPAN><SPAN LANG="en-nz"></SP
	AN></P>\n\n<P DIR=LTR><SPAN LANG="en-nz"></SPAN><A HREF="http://www.herita
	gefestival.co.nz/"><SPAN LANG="en-nz"></SPAN><SPAN LANG="en-nz"><U><FONT C
	OLOR="#0000FF" FACE="Arial">http://www.heritagefestival.co.nz/</FONT></U><
	/SPAN><SPAN LANG="en-nz"></SPAN></A><SPAN LANG="en-nz"></SPAN><SPAN LANG="
	en-nz"></SPAN></P>\n\n<P DIR=LTR><SPAN LANG="en-nz"></SPAN><SPAN LANG="en-
	nz"></SPAN></P>\n\n</BODY>\n</HTML>
X-MICROSOFT-CDO-BUSYSTATUS:BUSY
X-MICROSOFT-CDO-IMPORTANCE:1
X-MICROSOFT-DISALLOW-COUNTER:FALSE
X-MS-OLK-AUTOFILLLOCATION:FALSE
X-MS-OLK-CONFTYPE:0
BEGIN:VALARM
TRIGGER:-PT15M
ACTION:DISPLAY
DESCRIPTION:Reminder
END:VALARM
END:VEVENT
END:VCALENDAR
