BEGIN:VCALENDAR
PRODID:-//Microsoft Corporation//Outlook 14.0 MIMEDIR//EN
VERSION:2.0
METHOD:PUBLISH
X-MS-OLK-FORCEINSPECTOROPEN:TRUE
BEGIN:VTIMEZONE
TZID:New Zealand Standard Time
BEGIN:STANDARD
DTSTART:16010401T030000
RRULE:FREQ=YEARLY;BYDAY=1SU;BYMONTH=4
TZOFFSETFROM:+1300
TZOFFSETTO:+1200
END:STANDARD
BEGIN:DAYLIGHT
DTSTART:16010930T020000
RRULE:FREQ=YEARLY;BYDAY=-1SU;BYMONTH=9
TZOFFSETFROM:+1200
TZOFFSETTO:+1300
END:DAYLIGHT
END:VTIMEZONE
BEGIN:VEVENT
CLASS:PUBLIC
CREATED:20170728T014753Z
DESCRIPTION:Explore the Old Maketu Cemetery with researcher Kara Oosterman\
	, and hear the stories of those Irish settlers who have been laid to rest 
	here.\n\nhttp://www.heritagefestival.co.nz/\n
DTEND;TZID="New Zealand Standard Time":20171004T103000
DTSTAMP:20170728T014753Z
DTSTART;TZID="New Zealand Standard Time":20171004T093000
LAST-MODIFIED:20170728T014753Z
LOCATION:Pratts Road\, Roman Catholic Cemetery\, Ramarama
PRIORITY:5
SEQUENCE:0
SUMMARY;LANGUAGE=en-nz:Sepultum est Coemeterio Maketu: Heritage Walk\, Old 
	Maketu Cemetery
TRANSP:OPAQUE
UID:040000008200E00074C5B7101A82E0080000000030F6511CA807D301000000000000000
	010000000D466A3B2AFB06144A05C19B399393F86
X-ALT-DESC;FMTTYPE=text/html:<!DOCTYPE HTML PUBLIC "-//W3C//DTD HTML 3.2//E
	N">\n<HTML>\n<HEAD>\n<META NAME="Generator" CONTENT="MS Exchange Server ve
	rsion 14.02.5004.000">\n<TITLE></TITLE>\n</HEAD>\n<BODY>\n<!-- Converted f
	rom text/rtf format -->\n\n<P DIR=LTR><SPAN LANG="en-nz"></SPAN><SPAN LANG
	="en-nz"><FONT FACE="Arial">Explore the Old Maketu Cemetery with researche
	r Kara Oosterman\, and hear the stories of those Irish settlers who have b
	een laid to rest here.</FONT></SPAN></P>\n\n<P DIR=LTR><SPAN LANG="en-nz">
	</SPAN><A HREF="http://www.heritagefestival.co.nz/"><SPAN LANG="en-nz"></S
	PAN><SPAN LANG="en-nz"><U><FONT COLOR="#0000FF" FACE="Arial">http://www.he
	ritagefestival.co.nz/</FONT></U></SPAN><SPAN LANG="en-nz"></SPAN></A><SPAN
	 LANG="en-nz"></SPAN><SPAN LANG="en-nz"></SPAN></P>\n\n</BODY>\n</HTML>
X-MICROSOFT-CDO-BUSYSTATUS:BUSY
X-MICROSOFT-CDO-IMPORTANCE:1
X-MICROSOFT-DISALLOW-COUNTER:FALSE
X-MS-OLK-AUTOFILLLOCATION:FALSE
X-MS-OLK-CONFTYPE:0
BEGIN:VALARM
TRIGGER:-PT15M
ACTION:DISPLAY
DESCRIPTION:Reminder
END:VALARM
END:VEVENT
END:VCALENDAR
