BEGIN:VCALENDAR
PRODID:-//Microsoft Corporation//Outlook 14.0 MIMEDIR//EN
VERSION:2.0
METHOD:PUBLISH
X-MS-OLK-FORCEINSPECTOROPEN:TRUE
BEGIN:VTIMEZONE
TZID:New Zealand Standard Time
BEGIN:STANDARD
DTSTART:16010401T030000
RRULE:FREQ=YEARLY;BYDAY=1SU;BYMONTH=4
TZOFFSETFROM:+1300
TZOFFSETTO:+1200
END:STANDARD
BEGIN:DAYLIGHT
DTSTART:16010930T020000
RRULE:FREQ=YEARLY;BYDAY=-1SU;BYMONTH=9
TZOFFSETFROM:+1200
TZOFFSETTO:+1300
END:DAYLIGHT
END:VTIMEZONE
BEGIN:VEVENT
CLASS:PUBLIC
CREATED:20170728T011633Z
DESCRIPTION:Take a stunning scenic walk back in time through St Heliers Vil
	lage and learn more about the history of this idyllic village by the sea.\
	n\nhttp://www.heritagefestival.co.nz/\n\n
DTEND;TZID="New Zealand Standard Time":20171015T180000
DTSTAMP:20170728T011633Z
DTSTART;TZID="New Zealand Standard Time":20170930T090000
LAST-MODIFIED:20170728T011633Z
LOCATION:32 St Heliers Bay Road\, St Heliers Library\, St Heliers
PRIORITY:5
SEQUENCE:0
SUMMARY;LANGUAGE=en-nz:St Heliers Village Heritage Walk and Display
TRANSP:OPAQUE
UID:040000008200E00074C5B7101A82E00800000000C073B3BBA307D301000000000000000
	0100000001F13D944B35D98439B0A09A38EF85775
X-ALT-DESC;FMTTYPE=text/html:<!DOCTYPE HTML PUBLIC "-//W3C//DTD HTML 3.2//E
	N">\n<HTML>\n<HEAD>\n<META NAME="Generator" CONTENT="MS Exchange Server ve
	rsion 14.02.5004.000">\n<TITLE></TITLE>\n</HEAD>\n<BODY>\n<!-- Converted f
	rom text/rtf format -->\n\n<P DIR=LTR><SPAN LANG="en-nz"></SPAN><SPAN LANG
	="en-nz"><FONT FACE="Arial">Take a stunning scenic walk back in time throu
	gh St Heliers Village and learn more about the history of this idyllic vil
	lage by the sea.</FONT></SPAN></P>\n\n<P DIR=LTR><SPAN LANG="en-nz"></SPAN
	><A HREF="http://www.heritagefestival.co.nz/"><SPAN LANG="en-nz"></SPAN><S
	PAN LANG="en-nz"><U><FONT COLOR="#0000FF" FACE="Arial">http://www.heritage
	festival.co.nz/</FONT></U></SPAN><SPAN LANG="en-nz"></SPAN></A><SPAN LANG=
	"en-nz"></SPAN><SPAN LANG="en-nz"></SPAN></P>\n\n<P DIR=LTR><SPAN LANG="en
	-nz"></SPAN><SPAN LANG="en-nz"></SPAN></P>\n\n</BODY>\n</HTML>
X-MICROSOFT-CDO-BUSYSTATUS:BUSY
X-MICROSOFT-CDO-IMPORTANCE:1
X-MICROSOFT-DISALLOW-COUNTER:FALSE
X-MS-OLK-AUTOFILLLOCATION:FALSE
X-MS-OLK-CONFTYPE:0
BEGIN:VALARM
TRIGGER:-PT15M
ACTION:DISPLAY
DESCRIPTION:Reminder
END:VALARM
END:VEVENT
END:VCALENDAR
