BEGIN:VCALENDAR
PRODID:-//Microsoft Corporation//Outlook 14.0 MIMEDIR//EN
VERSION:2.0
METHOD:PUBLISH
X-MS-OLK-FORCEINSPECTOROPEN:TRUE
BEGIN:VTIMEZONE
TZID:New Zealand Standard Time
BEGIN:STANDARD
DTSTART:16010401T030000
RRULE:FREQ=YEARLY;BYDAY=1SU;BYMONTH=4
TZOFFSETFROM:+1300
TZOFFSETTO:+1200
END:STANDARD
BEGIN:DAYLIGHT
DTSTART:16010930T020000
RRULE:FREQ=YEARLY;BYDAY=-1SU;BYMONTH=9
TZOFFSETFROM:+1200
TZOFFSETTO:+1300
END:DAYLIGHT
END:VTIMEZONE
BEGIN:VEVENT
CLASS:PUBLIC
CREATED:20170730T222224Z
DESCRIPTION:Saturday 30 September – Saturday 14 October\, Monday - Saturd
	ay 10am-4pm\n\nLearn about how St Mary's Church was picked up and moved fr
	om one side of Parnell Road to the other in 1982.\n\nhttp://www.heritagefe
	stival.co.nz/\n
DTEND;TZID="New Zealand Standard Time":20171014T160000
DTSTAMP:20170730T222224Z
DTSTART;TZID="New Zealand Standard Time":20170930T100000
LAST-MODIFIED:20170730T222224Z
LOCATION:446 Parnell Road\, St Mary's-in-Holy Trinity\, Parnell
PRIORITY:5
SEQUENCE:0
SUMMARY;LANGUAGE=en-nz:St Mary's-in-Holy Trinity: A Heritage Pathway - Tran
	sportation in Time
TRANSP:OPAQUE
UID:040000008200E00074C5B7101A82E00800000000C0AAACE6E609D301000000000000000
	010000000071BB91BA237584488D71A42E161E4F7
X-ALT-DESC;FMTTYPE=text/html:<!DOCTYPE HTML PUBLIC "-//W3C//DTD HTML 3.2//E
	N">\n<HTML>\n<HEAD>\n<META NAME="Generator" CONTENT="MS Exchange Server ve
	rsion 14.02.5004.000">\n<TITLE></TITLE>\n</HEAD>\n<BODY>\n<!-- Converted f
	rom text/rtf format -->\n\n<P DIR=LTR><SPAN LANG="en-nz"></SPAN><SPAN LANG
	="en-nz"><FONT FACE="Arial">Saturday 30 September – Saturday 14 October\
	, Monday - Saturday 10am-4pm</FONT></SPAN></P>\n\n<P DIR=LTR><SPAN LANG="e
	n-nz"><FONT FACE="Arial">Learn about how St Mary's Church was picked up an
	d moved from one side of Parnell Road to the other in 1982.</FONT></SPAN><
	/P>\n\n<P DIR=LTR><SPAN LANG="en-nz"></SPAN><A HREF="http://www.heritagefe
	stival.co.nz/"><SPAN LANG="en-nz"></SPAN><SPAN LANG="en-nz"><U><FONT COLOR
	="#0000FF" FACE="Arial">http://www.heritagefestival.co.nz/</FONT></U></SPA
	N><SPAN LANG="en-nz"></SPAN></A><SPAN LANG="en-nz"></SPAN><SPAN LANG="en-n
	z"></SPAN></P>\n\n</BODY>\n</HTML>
X-MICROSOFT-CDO-BUSYSTATUS:BUSY
X-MICROSOFT-CDO-IMPORTANCE:1
X-MICROSOFT-DISALLOW-COUNTER:FALSE
X-MS-OLK-AUTOFILLLOCATION:FALSE
X-MS-OLK-CONFTYPE:0
BEGIN:VALARM
TRIGGER:-PT15M
ACTION:DISPLAY
DESCRIPTION:Reminder
END:VALARM
END:VEVENT
END:VCALENDAR
