BEGIN:VCALENDAR
PRODID:-//Microsoft Corporation//Outlook 14.0 MIMEDIR//EN
VERSION:2.0
METHOD:PUBLISH
X-MS-OLK-FORCEINSPECTOROPEN:TRUE
BEGIN:VTIMEZONE
TZID:New Zealand Standard Time
BEGIN:STANDARD
DTSTART:16010401T030000
RRULE:FREQ=YEARLY;BYDAY=1SU;BYMONTH=4
TZOFFSETFROM:+1300
TZOFFSETTO:+1200
END:STANDARD
BEGIN:DAYLIGHT
DTSTART:16010930T020000
RRULE:FREQ=YEARLY;BYDAY=-1SU;BYMONTH=9
TZOFFSETFROM:+1200
TZOFFSETTO:+1300
END:DAYLIGHT
END:VTIMEZONE
BEGIN:VEVENT
CLASS:PUBLIC
CREATED:20170802T013346Z
DESCRIPTION:Experience Auckland's taonga at St Matthew-in-the-City with a f
	ull peal of bells demonstration\, organ performances\, a heritage talk and
	 stained glass window tours.\n\nhttp://www.heritagefestival.co.nz/\n\n
DTEND;TZID="New Zealand Standard Time":20171014T150000
DTSTAMP:20170802T013346Z
DTSTART;TZID="New Zealand Standard Time":20171014T120000
LAST-MODIFIED:20170802T013346Z
LOCATION:187 Federal Street (corner of Wellesley Street and Hobson Street)\
	, St Matthew-in-the-City\, Auckland Central
PRIORITY:5
SEQUENCE:0
SUMMARY;LANGUAGE=en-nz:St Matthew-in-the-City: 162 years of Taonga in Auckl
	and City
TRANSP:OPAQUE
UID:040000008200E00074C5B7101A82E00800000000D0F48DF7930BD301000000000000000
	010000000B92C3B20417C0E448D83CFEB6707CBC5
X-ALT-DESC;FMTTYPE=text/html:<!DOCTYPE HTML PUBLIC "-//W3C//DTD HTML 3.2//E
	N">\n<HTML>\n<HEAD>\n<META NAME="Generator" CONTENT="MS Exchange Server ve
	rsion 14.02.5004.000">\n<TITLE></TITLE>\n</HEAD>\n<BODY>\n<!-- Converted f
	rom text/rtf format -->\n\n<P DIR=LTR><SPAN LANG="en-nz"></SPAN><SPAN LANG
	="en-nz"><FONT FACE="Arial">Experience Auckland's taonga at St Matthew-in-
	the-City with a full peal of bells demonstration\, organ performances\, a 
	heritage talk and stained glass window tours.</FONT></SPAN></P>\n\n<P DIR=
	LTR><SPAN LANG="en-nz"></SPAN><A HREF="http://www.heritagefestival.co.nz/"
	><SPAN LANG="en-nz"></SPAN><SPAN LANG="en-nz"><U><FONT COLOR="#0000FF" FAC
	E="Arial">http://www.heritagefestival.co.nz/</FONT></U></SPAN><SPAN LANG="
	en-nz"></SPAN></A><SPAN LANG="en-nz"></SPAN><SPAN LANG="en-nz"></SPAN></P>
	\n\n<P DIR=LTR><SPAN LANG="en-nz"></SPAN><SPAN LANG="en-nz"></SPAN></P>\n\
	n</BODY>\n</HTML>
X-MICROSOFT-CDO-BUSYSTATUS:BUSY
X-MICROSOFT-CDO-IMPORTANCE:1
X-MICROSOFT-DISALLOW-COUNTER:FALSE
X-MS-OLK-AUTOFILLLOCATION:FALSE
X-MS-OLK-CONFTYPE:0
BEGIN:VALARM
TRIGGER:-PT15M
ACTION:DISPLAY
DESCRIPTION:Reminder
END:VALARM
END:VEVENT
END:VCALENDAR
