BEGIN:VCALENDAR
PRODID:-//Microsoft Corporation//Outlook 14.0 MIMEDIR//EN
VERSION:2.0
METHOD:PUBLISH
X-MS-OLK-FORCEINSPECTOROPEN:TRUE
BEGIN:VTIMEZONE
TZID:New Zealand Standard Time
BEGIN:STANDARD
DTSTART:16010401T030000
RRULE:FREQ=YEARLY;BYDAY=1SU;BYMONTH=4
TZOFFSETFROM:+1300
TZOFFSETTO:+1200
END:STANDARD
BEGIN:DAYLIGHT
DTSTART:16010930T020000
RRULE:FREQ=YEARLY;BYDAY=-1SU;BYMONTH=9
TZOFFSETFROM:+1200
TZOFFSETTO:+1300
END:DAYLIGHT
END:VTIMEZONE
BEGIN:VEVENT
CLASS:PUBLIC
CREATED:20170731T023841Z
DESCRIPTION:Tuesday 3 October and Wednesday 11 October\, 10am-11am\nThursda
	y 5 October and Friday 13 October\, 1.30pm-2.30pm\n\nEnjoy a guided tour o
	f the historic St Patrick's Cathedral to learn about its built and cultura
	l heritage from 1841 to present day.\n\nhttp://www.heritagefestival.co.nz/
	\n\n\n
DTEND;TZID="New Zealand Standard Time":20171013T143000
DTSTAMP:20170731T023841Z
DTSTART;TZID="New Zealand Standard Time":20171003T100000
LAST-MODIFIED:20170731T023841Z
LOCATION:1 St Patrick's Square\, St Patrick's Cathedral\, Auckland Central
PRIORITY:5
SEQUENCE:0
SUMMARY;LANGUAGE=en-nz:St Patrick's Cathedral: A Guided Tour
TRANSP:OPAQUE
UID:040000008200E00074C5B7101A82E00800000000C0341DB40A0AD301000000000000000
	010000000E678B4AB3BCD8D488C7BFFF6BBB0BFE6
X-ALT-DESC;FMTTYPE=text/html:<!DOCTYPE HTML PUBLIC "-//W3C//DTD HTML 3.2//E
	N">\n<HTML>\n<HEAD>\n<META NAME="Generator" CONTENT="MS Exchange Server ve
	rsion 14.02.5004.000">\n<TITLE></TITLE>\n</HEAD>\n<BODY>\n<!-- Converted f
	rom text/rtf format -->\n\n<P DIR=LTR><SPAN LANG="en-nz"></SPAN><SPAN LANG
	="en-nz"><FONT FACE="Arial">Tuesday 3 October and Wednesday 11 October\, 1
	0am-11am</FONT></SPAN></P>\n\n<P DIR=LTR><SPAN LANG="en-nz"><FONT FACE="Ar
	ial">Thursday 5 October and Friday 13 October\, 1.30pm-2.30pm</FONT></SPAN
	></P>\n\n<P DIR=LTR><SPAN LANG="en-nz"><FONT FACE="Arial">Enjoy a guided t
	our of the historic St Patrick's Cathedral to learn about its built and cu
	ltural heritage from 1841 to present day.</FONT></SPAN></P>\n\n<P DIR=LTR>
	<SPAN LANG="en-nz"></SPAN><A HREF="http://www.heritagefestival.co.nz/"><SP
	AN LANG="en-nz"></SPAN><SPAN LANG="en-nz"><U><FONT COLOR="#0000FF" FACE="A
	rial">http://www.heritagefestival.co.nz/</FONT></U></SPAN><SPAN LANG="en-n
	z"></SPAN></A><SPAN LANG="en-nz"></SPAN><SPAN LANG="en-nz"></SPAN></P>\n\n
	<P DIR=LTR><SPAN LANG="en-nz"></SPAN><SPAN LANG="en-nz"></SPAN></P>\n\n<P 
	DIR=LTR><SPAN LANG="en-nz"></SPAN><SPAN LANG="en-nz"></SPAN></P>\n\n</BODY
	>\n</HTML>
X-MICROSOFT-CDO-BUSYSTATUS:BUSY
X-MICROSOFT-CDO-IMPORTANCE:1
X-MICROSOFT-DISALLOW-COUNTER:FALSE
X-MS-OLK-AUTOFILLLOCATION:FALSE
X-MS-OLK-CONFTYPE:0
BEGIN:VALARM
TRIGGER:-PT15M
ACTION:DISPLAY
DESCRIPTION:Reminder
END:VALARM
END:VEVENT
END:VCALENDAR
