BEGIN:VCALENDAR
PRODID:-//Microsoft Corporation//Outlook 14.0 MIMEDIR//EN
VERSION:2.0
METHOD:PUBLISH
X-MS-OLK-FORCEINSPECTOROPEN:TRUE
BEGIN:VTIMEZONE
TZID:New Zealand Standard Time
BEGIN:STANDARD
DTSTART:16010401T030000
RRULE:FREQ=YEARLY;BYDAY=1SU;BYMONTH=4
TZOFFSETFROM:+1300
TZOFFSETTO:+1200
END:STANDARD
BEGIN:DAYLIGHT
DTSTART:16010930T020000
RRULE:FREQ=YEARLY;BYDAY=-1SU;BYMONTH=9
TZOFFSETFROM:+1200
TZOFFSETTO:+1300
END:DAYLIGHT
END:VTIMEZONE
BEGIN:VEVENT
CLASS:PUBLIC
CREATED:20170801T204139Z
DESCRIPTION:Sunday 8 October and Sunday 15 October\, 10.30am-12.30pm\n\nAn 
	opportunity to hear about the little known story of the 733 Polish childre
	n of Pahiatua\, invited to New Zealand during WWII. Includes morning tea.\
	n\nhttp://www.heritagefestival.co.nz/\n\n\n
DTEND;TZID="New Zealand Standard Time":20171015T123000
DTSTAMP:20170801T204139Z
DTSTART;TZID="New Zealand Standard Time":20171008T103000
LAST-MODIFIED:20170801T204139Z
LOCATION:125 Elliot Street\, Polish Heritage Trust Museum\,Howick
PRIORITY:5
SEQUENCE:0
SUMMARY;LANGUAGE=en-nz:Talk: Guided Tour and Film 'Poles Apart'
TRANSP:OPAQUE
UID:040000008200E00074C5B7101A82E00800000000F067AC286B0BD301000000000000000
	010000000A9FD1BEF8D860643AAD8F47AF98B71F1
X-ALT-DESC;FMTTYPE=text/html:<!DOCTYPE HTML PUBLIC "-//W3C//DTD HTML 3.2//E
	N">\n<HTML>\n<HEAD>\n<META NAME="Generator" CONTENT="MS Exchange Server ve
	rsion 14.02.5004.000">\n<TITLE></TITLE>\n</HEAD>\n<BODY>\n<!-- Converted f
	rom text/rtf format -->\n\n<P DIR=LTR><SPAN LANG="en-nz"></SPAN><SPAN LANG
	="en-nz"><FONT FACE="Arial">Sunday 8 October and Sunday 15 October\, 10.30
	am-12.30pm</FONT></SPAN></P>\n\n<P DIR=LTR><SPAN LANG="en-nz"><FONT FACE="
	Arial">An opportunity to hear about the little known story of the 733 Poli
	sh children of Pahiatua\, invited to New Zealand during WWII. Includes mor
	ning tea.</FONT></SPAN></P>\n\n<P DIR=LTR><SPAN LANG="en-nz"></SPAN><A HRE
	F="http://www.heritagefestival.co.nz/"><SPAN LANG="en-nz"></SPAN><SPAN LAN
	G="en-nz"><U><FONT COLOR="#0000FF" FACE="Arial">http://www.heritagefestiva
	l.co.nz/</FONT></U></SPAN><SPAN LANG="en-nz"></SPAN></A><SPAN LANG="en-nz"
	></SPAN><SPAN LANG="en-nz"></SPAN></P>\n\n<P DIR=LTR><SPAN LANG="en-nz"></
	SPAN><SPAN LANG="en-nz"></SPAN></P>\n\n<P DIR=LTR><SPAN LANG="en-nz"></SPA
	N><SPAN LANG="en-nz"></SPAN></P>\n\n</BODY>\n</HTML>
X-MICROSOFT-CDO-BUSYSTATUS:BUSY
X-MICROSOFT-CDO-IMPORTANCE:1
X-MICROSOFT-DISALLOW-COUNTER:FALSE
X-MS-OLK-AUTOFILLLOCATION:FALSE
X-MS-OLK-CONFTYPE:0
BEGIN:VALARM
TRIGGER:-PT15M
ACTION:DISPLAY
DESCRIPTION:Reminder
END:VALARM
END:VEVENT
END:VCALENDAR
