BEGIN:VCALENDAR
PRODID:-//Microsoft Corporation//Outlook 14.0 MIMEDIR//EN
VERSION:2.0
METHOD:PUBLISH
X-MS-OLK-FORCEINSPECTOROPEN:TRUE
BEGIN:VTIMEZONE
TZID:New Zealand Standard Time
BEGIN:STANDARD
DTSTART:16010401T030000
RRULE:FREQ=YEARLY;BYDAY=1SU;BYMONTH=4
TZOFFSETFROM:+1300
TZOFFSETTO:+1200
END:STANDARD
BEGIN:DAYLIGHT
DTSTART:16010930T020000
RRULE:FREQ=YEARLY;BYDAY=-1SU;BYMONTH=9
TZOFFSETFROM:+1200
TZOFFSETTO:+1300
END:DAYLIGHT
END:VTIMEZONE
BEGIN:VEVENT
CLASS:PUBLIC
CREATED:20170803T015325Z
DESCRIPTION:Climb aboard our heritage ketch-rigged wooden scow\, Ted Ashby\
	, for a unique sailing experience around the Waitematā Harbour.\n\nhttp:/
	/www.heritagefestival.co.nz/\n\n\n
DTEND;TZID="New Zealand Standard Time":20171003T133000
DTSTAMP:20170803T015325Z
DTSTART;TZID="New Zealand Standard Time":20170930T113000
LAST-MODIFIED:20170803T015325Z
LOCATION:Corner of Quay Street and Hobson Street\, New Zealand Maritime Mus
	eum\, Viaduct Harbour
PRIORITY:5
SEQUENCE:0
SUMMARY;LANGUAGE=en-nz:Ted Ashby Heritage Sailing
TRANSP:OPAQUE
UID:040000008200E00074C5B7101A82E00800000000F071C7E05F0CD301000000000000000
	0100000009E829C959A78374A852C897CE9125DA8
X-ALT-DESC;FMTTYPE=text/html:<!DOCTYPE HTML PUBLIC "-//W3C//DTD HTML 3.2//E
	N">\n<HTML>\n<HEAD>\n<META NAME="Generator" CONTENT="MS Exchange Server ve
	rsion 14.02.5004.000">\n<TITLE></TITLE>\n</HEAD>\n<BODY>\n<!-- Converted f
	rom text/rtf format -->\n\n<P DIR=LTR><SPAN LANG="en-nz"></SPAN><SPAN LANG
	="en-nz"><FONT FACE="Arial Baltic">Climb aboard our heritage ketch-rigged 
	wooden scow\, Ted Ashby\, for a unique sailing experience around the Waite
	matā Harbour.</FONT></SPAN></P>\n\n<P DIR=LTR><SPAN LANG="en-nz"></SPAN><
	SPAN LANG="en-nz"></SPAN></P>\n\n<P DIR=LTR><SPAN LANG="en-nz"></SPAN><A H
	REF="http://www.heritagefestival.co.nz/"><SPAN LANG="en-nz"></SPAN><SPAN L
	ANG="en-nz"><U><FONT COLOR="#0000FF" FACE="Arial">http://www.heritagefesti
	val.co.nz/</FONT></U></SPAN><SPAN LANG="en-nz"></SPAN></A><SPAN LANG="en-n
	z"></SPAN><SPAN LANG="en-nz"></SPAN></P>\n\n<P DIR=LTR><SPAN LANG="en-nz">
	</SPAN><SPAN LANG="en-nz"></SPAN></P>\n\n<P DIR=LTR><SPAN LANG="en-nz"></S
	PAN><SPAN LANG="en-nz"></SPAN></P>\n\n</BODY>\n</HTML>
X-MICROSOFT-CDO-BUSYSTATUS:BUSY
X-MICROSOFT-CDO-IMPORTANCE:1
X-MICROSOFT-DISALLOW-COUNTER:FALSE
X-MS-OLK-AUTOFILLLOCATION:FALSE
X-MS-OLK-CONFTYPE:0
BEGIN:VALARM
TRIGGER:-PT15M
ACTION:DISPLAY
DESCRIPTION:Reminder
END:VALARM
END:VEVENT
END:VCALENDAR
