BEGIN:VCALENDAR
PRODID:-//Microsoft Corporation//Outlook 14.0 MIMEDIR//EN
VERSION:2.0
METHOD:PUBLISH
X-MS-OLK-FORCEINSPECTOROPEN:TRUE
BEGIN:VTIMEZONE
TZID:New Zealand Standard Time
BEGIN:STANDARD
DTSTART:16010401T030000
RRULE:FREQ=YEARLY;BYDAY=1SU;BYMONTH=4
TZOFFSETFROM:+1300
TZOFFSETTO:+1200
END:STANDARD
BEGIN:DAYLIGHT
DTSTART:16010930T020000
RRULE:FREQ=YEARLY;BYDAY=-1SU;BYMONTH=9
TZOFFSETFROM:+1200
TZOFFSETTO:+1300
END:DAYLIGHT
END:VTIMEZONE
BEGIN:VEVENT
CLASS:PUBLIC
CREATED:20170801T211423Z
DESCRIPTION:Saturday 30 September - Saturday 14 October\, Tuesday - Friday 
	10am-5pm\, Saturday noon-4pm\n\nExperience 100 years of architecture and p
	lanning education at the University of Auckland\, presented primarily thro
	ugh student drawings.\n\nhttp://www.heritagefestival.co.nz/\n\n
DTEND;TZID="New Zealand Standard Time":20171014T160000
DTSTAMP:20170801T211423Z
DTSTART;TZID="New Zealand Standard Time":20170930T100000
LAST-MODIFIED:20170801T211423Z
LOCATION:74 Shortland Street\, Gus Fisher Gallery\, Auckland Central
PRIORITY:5
SEQUENCE:0
SUMMARY;LANGUAGE=en-nz:The Auckland School: 100 Years of Architecture and P
	lanning at the Gus Fisher Gallery
TRANSP:OPAQUE
UID:040000008200E00074C5B7101A82E0080000000030314DBB6F0BD301000000000000000
	0100000006C07843B145B014CA7129B088684B0D6
X-ALT-DESC;FMTTYPE=text/html:<!DOCTYPE HTML PUBLIC "-//W3C//DTD HTML 3.2//E
	N">\n<HTML>\n<HEAD>\n<META NAME="Generator" CONTENT="MS Exchange Server ve
	rsion 14.02.5004.000">\n<TITLE></TITLE>\n</HEAD>\n<BODY>\n<!-- Converted f
	rom text/rtf format -->\n\n<P DIR=LTR><SPAN LANG="en-nz"></SPAN><SPAN LANG
	="en-nz"><FONT FACE="Arial">Saturday 30 September - Saturday 14 October\, 
	Tuesday - Friday 10am-5pm\, Saturday noon-4pm</FONT></SPAN></P>\n\n<P DIR=
	LTR><SPAN LANG="en-nz"><FONT FACE="Arial">Experience 100 years of architec
	ture and planning education at the University of Auckland\, presented prim
	arily through student drawings.</FONT></SPAN></P>\n\n<P DIR=LTR><SPAN LANG
	="en-nz"></SPAN><A HREF="http://www.heritagefestival.co.nz/"><SPAN LANG="e
	n-nz"></SPAN><SPAN LANG="en-nz"><U><FONT COLOR="#0000FF" FACE="Arial">http
	://www.heritagefestival.co.nz/</FONT></U></SPAN><SPAN LANG="en-nz"></SPAN>
	</A><SPAN LANG="en-nz"></SPAN><SPAN LANG="en-nz"></SPAN></P>\n\n<P DIR=LTR
	><SPAN LANG="en-nz"></SPAN><SPAN LANG="en-nz"></SPAN></P>\n\n</BODY>\n</HT
	ML>
X-MICROSOFT-CDO-BUSYSTATUS:BUSY
X-MICROSOFT-CDO-IMPORTANCE:1
X-MICROSOFT-DISALLOW-COUNTER:FALSE
X-MS-OLK-AUTOFILLLOCATION:FALSE
X-MS-OLK-CONFTYPE:0
BEGIN:VALARM
TRIGGER:-PT15M
ACTION:DISPLAY
DESCRIPTION:Reminder
END:VALARM
END:VEVENT
END:VCALENDAR
