BEGIN:VCALENDAR
PRODID:-//Microsoft Corporation//Outlook 14.0 MIMEDIR//EN
VERSION:2.0
METHOD:PUBLISH
X-MS-OLK-FORCEINSPECTOROPEN:TRUE
BEGIN:VTIMEZONE
TZID:New Zealand Standard Time
BEGIN:STANDARD
DTSTART:16010401T030000
RRULE:FREQ=YEARLY;BYDAY=1SU;BYMONTH=4
TZOFFSETFROM:+1300
TZOFFSETTO:+1200
END:STANDARD
BEGIN:DAYLIGHT
DTSTART:16010930T020000
RRULE:FREQ=YEARLY;BYDAY=-1SU;BYMONTH=9
TZOFFSETFROM:+1200
TZOFFSETTO:+1300
END:DAYLIGHT
END:VTIMEZONE
BEGIN:VEVENT
CLASS:PUBLIC
CREATED:20170728T032633Z
DESCRIPTION:Follow our 'Time Trail' and step back to yesteryears. Hunt for 
	hidden bears (teddy variety) amongst the memorabilia. Plus special audio-v
	isual display. Devonshire teas also available.\n\nhttp://www.heritagefesti
	val.co.nz/\n
DTEND;TZID="New Zealand Standard Time":20171015T150000
DTSTAMP:20170728T032633Z
DTSTART;TZID="New Zealand Standard Time":20170930T100000
LAST-MODIFIED:20170728T032633Z
LOCATION:15 Wainui  Road\, Silverdale Pioneer Village\, Silverdale
PRIORITY:5
SEQUENCE:0
SUMMARY;LANGUAGE=en-nz:The Bridge to the Hibiscus
TRANSP:OPAQUE
UID:040000008200E00074C5B7101A82E00800000000B0FF14E5B507D301000000000000000
	0100000003366C6B7C635FA4BA71A0A0091C03317
X-ALT-DESC;FMTTYPE=text/html:<!DOCTYPE HTML PUBLIC "-//W3C//DTD HTML 3.2//E
	N">\n<HTML>\n<HEAD>\n<META NAME="Generator" CONTENT="MS Exchange Server ve
	rsion 14.02.5004.000">\n<TITLE></TITLE>\n</HEAD>\n<BODY>\n<!-- Converted f
	rom text/rtf format -->\n\n<P DIR=LTR><SPAN LANG="en-nz"></SPAN><SPAN LANG
	="en-nz"><FONT FACE="Arial">Follow our 'Time Trail' and step back to yeste
	ryears. Hunt for hidden bears (teddy variety) amongst the memorabilia. Plu
	s special audio-visual display. Devonshire teas also available.</FONT></SP
	AN></P>\n\n<P DIR=LTR><SPAN LANG="en-nz"></SPAN><A HREF="http://www.herita
	gefestival.co.nz/"><SPAN LANG="en-nz"></SPAN><SPAN LANG="en-nz"><U><FONT C
	OLOR="#0000FF" FACE="Arial">http://www.heritagefestival.co.nz/</FONT></U><
	/SPAN><SPAN LANG="en-nz"></SPAN></A><SPAN LANG="en-nz"></SPAN><SPAN LANG="
	en-nz"></SPAN></P>\n\n</BODY>\n</HTML>
X-MICROSOFT-CDO-BUSYSTATUS:BUSY
X-MICROSOFT-CDO-IMPORTANCE:1
X-MICROSOFT-DISALLOW-COUNTER:FALSE
X-MS-OLK-AUTOFILLLOCATION:FALSE
X-MS-OLK-CONFTYPE:0
BEGIN:VALARM
TRIGGER:-PT15M
ACTION:DISPLAY
DESCRIPTION:Reminder
END:VALARM
END:VEVENT
END:VCALENDAR
