BEGIN:VCALENDAR
PRODID:-//Microsoft Corporation//Outlook 14.0 MIMEDIR//EN
VERSION:2.0
METHOD:PUBLISH
X-MS-OLK-FORCEINSPECTOROPEN:TRUE
BEGIN:VTIMEZONE
TZID:New Zealand Standard Time
BEGIN:STANDARD
DTSTART:16010401T030000
RRULE:FREQ=YEARLY;BYDAY=1SU;BYMONTH=4
TZOFFSETFROM:+1300
TZOFFSETTO:+1200
END:STANDARD
BEGIN:DAYLIGHT
DTSTART:16010930T020000
RRULE:FREQ=YEARLY;BYDAY=-1SU;BYMONTH=9
TZOFFSETFROM:+1200
TZOFFSETTO:+1300
END:DAYLIGHT
END:VTIMEZONE
BEGIN:VEVENT
CLASS:PUBLIC
CREATED:20170801T021426Z
DESCRIPTION:Luit Bieringa's rich documentary traces changes to the post-war
	 education system that brought art\, artists and Māori arts in particul
	ar into the New Zealand classroom.\n\nhttp://www.heritagefestival.co.nz/\n
	\n
DTEND;TZID="New Zealand Standard Time":20171001T150000
DTSTAMP:20170801T021426Z
DTSTART;TZID="New Zealand Standard Time":20171001T130000
LAST-MODIFIED:20170801T021426Z
LOCATION:418 Titirangi Road\, Lopdell Theatre\, Titirangi
PRIORITY:5
SEQUENCE:0
SUMMARY;LANGUAGE=en-nz:The heART of the Matter: Documentary Film Screening
TRANSP:OPAQUE
UID:040000008200E00074C5B7101A82E00800000000501D767BD00AD301000000000000000
	010000000D88BFA9CC04E6C46AC3C4EC8E9A06768
X-ALT-DESC;FMTTYPE=text/html:<!DOCTYPE HTML PUBLIC "-//W3C//DTD HTML 3.2//E
	N">\n<HTML>\n<HEAD>\n<META NAME="Generator" CONTENT="MS Exchange Server ve
	rsion 14.02.5004.000">\n<TITLE></TITLE>\n</HEAD>\n<BODY>\n<!-- Converted f
	rom text/rtf format -->\n\n<P DIR=LTR><SPAN LANG="en-nz"></SPAN><SPAN LANG
	="en-nz"><FONT FACE="Arial Baltic">Luit Bieringa's rich documentary traces
	 changes to the post-war education system that brought art\, artists and M
	ā</FONT></SPAN><SPAN LANG="en-nz"></SPAN><SPAN LANG="en-nz"><FONT FACE="A
	rial"></FONT></SPAN><SPAN LANG="en-nz"></SPAN><SPAN LANG="en-nz"><FONT F
	ACE="Arial">ori arts in particular into the New Zealand classroom.</FONT><
	/SPAN></P>\n\n<P DIR=LTR><SPAN LANG="en-nz"></SPAN><A HREF="http://www.her
	itagefestival.co.nz/"><SPAN LANG="en-nz"></SPAN><SPAN LANG="en-nz"><U><FON
	T COLOR="#0000FF" FACE="Arial">http://www.heritagefestival.co.nz/</FONT></
	U></SPAN><SPAN LANG="en-nz"></SPAN></A><SPAN LANG="en-nz"></SPAN><SPAN LAN
	G="en-nz"></SPAN></P>\n\n<P DIR=LTR><SPAN LANG="en-nz"></SPAN><SPAN LANG="
	en-nz"></SPAN></P>\n\n</BODY>\n</HTML>
X-MICROSOFT-CDO-BUSYSTATUS:BUSY
X-MICROSOFT-CDO-IMPORTANCE:1
X-MICROSOFT-DISALLOW-COUNTER:FALSE
X-MS-OLK-AUTOFILLLOCATION:FALSE
X-MS-OLK-CONFTYPE:0
BEGIN:VALARM
TRIGGER:-PT15M
ACTION:DISPLAY
DESCRIPTION:Reminder
END:VALARM
END:VEVENT
END:VCALENDAR
