BEGIN:VCALENDAR
PRODID:-//Microsoft Corporation//Outlook 14.0 MIMEDIR//EN
VERSION:2.0
METHOD:PUBLISH
X-MS-OLK-FORCEINSPECTOROPEN:TRUE
BEGIN:VTIMEZONE
TZID:New Zealand Standard Time
BEGIN:STANDARD
DTSTART:16010401T030000
RRULE:FREQ=YEARLY;BYDAY=1SU;BYMONTH=4
TZOFFSETFROM:+1300
TZOFFSETTO:+1200
END:STANDARD
BEGIN:DAYLIGHT
DTSTART:16010930T020000
RRULE:FREQ=YEARLY;BYDAY=-1SU;BYMONTH=9
TZOFFSETFROM:+1200
TZOFFSETTO:+1300
END:DAYLIGHT
END:VTIMEZONE
BEGIN:VEVENT
CLASS:PUBLIC
CREATED:20170727T205552Z
DESCRIPTION:Bruce Ringer explains the origin of a mysterious series of 22 m
	ileposts erected between Auckland and Drury in 1863.\n\nhttp://www.heritag
	efestival.co.nz/\n\n
DTEND;TZID="New Zealand Standard Time":20171010T120000
DTSTAMP:20170727T205552Z
DTSTART;TZID="New Zealand Standard Time":20171010T103000
LAST-MODIFIED:20170727T205552Z
LOCATION:30 Wallace Road\, Papatoetoe War Memorial Library\, Papatoetoe
PRIORITY:5
SEQUENCE:0
SUMMARY;LANGUAGE=en-nz:The Mystery of the Mileposts
TRANSP:OPAQUE
UID:040000008200E00074C5B7101A82E008000000004076FC507F07D301000000000000000
	01000000087EC8C904133C24393FB45EA5E992464
X-ALT-DESC;FMTTYPE=text/html:<!DOCTYPE HTML PUBLIC "-//W3C//DTD HTML 3.2//E
	N">\n<HTML>\n<HEAD>\n<META NAME="Generator" CONTENT="MS Exchange Server ve
	rsion 14.02.5004.000">\n<TITLE></TITLE>\n</HEAD>\n<BODY>\n<!-- Converted f
	rom text/rtf format -->\n\n<P DIR=LTR><SPAN LANG="en-nz"></SPAN><SPAN LANG
	="en-nz"><FONT FACE="Arial">Bruce Ringer explains the origin of a mysterio
	us series of 22 mileposts erected between Auckland and Drury in 1863.</FON
	T></SPAN><SPAN LANG="en-nz"></SPAN><SPAN LANG="en-nz"></SPAN></P>\n\n<P DI
	R=LTR><SPAN LANG="en-nz"></SPAN><A HREF="http://www.heritagefestival.co.nz
	/"><SPAN LANG="en-nz"></SPAN><SPAN LANG="en-nz"><U><FONT COLOR="#0000FF" F
	ACE="Arial">http://www.heritagefestival.co.nz/</FONT></U></SPAN><SPAN LANG
	="en-nz"></SPAN></A><SPAN LANG="en-nz"></SPAN><SPAN LANG="en-nz"></SPAN></
	P>\n\n<P DIR=LTR><SPAN LANG="en-nz"></SPAN><SPAN LANG="en-nz"></SPAN></P>\
	n\n</BODY>\n</HTML>
X-MICROSOFT-CDO-BUSYSTATUS:BUSY
X-MICROSOFT-CDO-IMPORTANCE:1
X-MICROSOFT-DISALLOW-COUNTER:FALSE
X-MS-OLK-AUTOFILLLOCATION:FALSE
X-MS-OLK-CONFTYPE:0
BEGIN:VALARM
TRIGGER:-PT15M
ACTION:DISPLAY
DESCRIPTION:Reminder
END:VALARM
END:VEVENT
END:VCALENDAR
