BEGIN:VCALENDAR
PRODID:-//Microsoft Corporation//Outlook 14.0 MIMEDIR//EN
VERSION:2.0
METHOD:PUBLISH
X-MS-OLK-FORCEINSPECTOROPEN:TRUE
BEGIN:VTIMEZONE
TZID:New Zealand Standard Time
BEGIN:STANDARD
DTSTART:16010401T030000
RRULE:FREQ=YEARLY;BYDAY=1SU;BYMONTH=4
TZOFFSETFROM:+1300
TZOFFSETTO:+1200
END:STANDARD
BEGIN:DAYLIGHT
DTSTART:16010930T020000
RRULE:FREQ=YEARLY;BYDAY=-1SU;BYMONTH=9
TZOFFSETFROM:+1200
TZOFFSETTO:+1300
END:DAYLIGHT
END:VTIMEZONE
BEGIN:VEVENT
CLASS:PUBLIC
CREATED:20170801T004233Z
DESCRIPTION:Saturday 30 September - Sunday 15 October\, Monday noon-5pm\, T
	uesday - Saturday 10am-5pm and\n\nUsing images\, artefacts\, and words thi
	s exhibition explores Frank Sargeson and his world against the backdrop of
	 change and expansion exemplified by Esmonde Road.\n\nhttp://www.heritagef
	estival.co.nz/\n\n
DTEND;TZID="New Zealand Standard Time":20171015T170000
DTSTAMP:20170801T004233Z
DTSTART;TZID="New Zealand Standard Time":20170930T100000
LAST-MODIFIED:20170801T004233Z
LOCATION:28 Clarence Street\, Vernacular Lounge\, Depot Artspace\, Devonpor
	t
PRIORITY:5
SEQUENCE:0
SUMMARY;LANGUAGE=en-nz:The Sargeson Swerve: A Literary Life on Esmonde Road
TRANSP:OPAQUE
UID:040000008200E00074C5B7101A82E0080000000050B63F08C30AD301000000000000000
	010000000D63851F1DB3E424ABC68AC5F7CE2CB2F
X-ALT-DESC;FMTTYPE=text/html:<!DOCTYPE HTML PUBLIC "-//W3C//DTD HTML 3.2//E
	N">\n<HTML>\n<HEAD>\n<META NAME="Generator" CONTENT="MS Exchange Server ve
	rsion 14.02.5004.000">\n<TITLE></TITLE>\n</HEAD>\n<BODY>\n<!-- Converted f
	rom text/rtf format -->\n\n<P DIR=LTR><SPAN LANG="en-nz"></SPAN><SPAN LANG
	="en-nz"><FONT FACE="Arial">Saturday 30 September - Sunday 15 October\, Mo
	nday noon-5pm\, Tuesday - Saturday 10am-5pm and</FONT></SPAN></P>\n\n<P DI
	R=LTR><SPAN LANG="en-nz"><FONT FACE="Arial">Sunday 11am-3pm</FONT></SPAN><
	SPAN LANG="en-nz"></SPAN><SPAN LANG="en-nz"></SPAN></P>\n\n<P DIR=LTR><SPA
	N LANG="en-nz"></SPAN><SPAN LANG="en-nz"></SPAN></P>\n\n<P DIR=LTR><SPAN L
	ANG="en-nz"><FONT FACE="Arial">Using images\, artefacts\, and words this e
	xhibition explores Frank Sargeson and his world against the backdrop of ch
	ange and expansion exemplified by Esmonde Road.</FONT></SPAN></P>\n\n<P DI
	R=LTR><SPAN LANG="en-nz"></SPAN><A HREF="http://www.heritagefestival.co.nz
	/"><SPAN LANG="en-nz"></SPAN><SPAN LANG="en-nz"><U><FONT COLOR="#0000FF" F
	ACE="Arial">http://www.heritagefestival.co.nz/</FONT></U></SPAN><SPAN LANG
	="en-nz"></SPAN></A><SPAN LANG="en-nz"></SPAN><SPAN LANG="en-nz"></SPAN></
	P>\n\n<P DIR=LTR><SPAN LANG="en-nz"></SPAN><SPAN LANG="en-nz"></SPAN></P>\
	n\n</BODY>\n</HTML>
X-MICROSOFT-CDO-BUSYSTATUS:BUSY
X-MICROSOFT-CDO-IMPORTANCE:1
X-MICROSOFT-DISALLOW-COUNTER:FALSE
X-MS-OLK-AUTOFILLLOCATION:FALSE
X-MS-OLK-CONFTYPE:0
BEGIN:VALARM
TRIGGER:-PT15M
ACTION:DISPLAY
DESCRIPTION:Reminder
END:VALARM
END:VEVENT
END:VCALENDAR
