BEGIN:VCALENDAR
PRODID:-//Microsoft Corporation//Outlook 14.0 MIMEDIR//EN
VERSION:2.0
METHOD:PUBLISH
X-MS-OLK-FORCEINSPECTOROPEN:TRUE
BEGIN:VTIMEZONE
TZID:New Zealand Standard Time
BEGIN:STANDARD
DTSTART:16010401T030000
RRULE:FREQ=YEARLY;BYDAY=1SU;BYMONTH=4
TZOFFSETFROM:+1300
TZOFFSETTO:+1200
END:STANDARD
BEGIN:DAYLIGHT
DTSTART:16010930T020000
RRULE:FREQ=YEARLY;BYDAY=-1SU;BYMONTH=9
TZOFFSETFROM:+1200
TZOFFSETTO:+1300
END:DAYLIGHT
END:VTIMEZONE
BEGIN:VEVENT
CLASS:PUBLIC
CREATED:20170802T022005Z
DESCRIPTION:Sunday 8 October and Sunday 15 October\, 10am\, 11.30am\, 1pm a
	nd 2.30pm\n\nBefore the Auckland Harbour Bridge\, steam ferries connected 
	the North Shore to the city. Join a tour of Toroa\, the last survivor\, cu
	rrently undergoing restoration.\n\nhttp://www.heritagefestival.co.nz/\n\n\
	n
DTEND;TZID="New Zealand Standard Time":20171015T143000
DTSTAMP:20170802T022005Z
DTSTART;TZID="New Zealand Standard Time":20171008T100000
LAST-MODIFIED:20170802T022005Z
LOCATION:2 Selwood Road\, Toroa Restoration Yard (Enter via Hawkins Constru
	ction gate)\, Henderson
PRIORITY:5
SEQUENCE:0
SUMMARY;LANGUAGE=en-nz:Toroa - Auckland's Last Steam Ferry
TRANSP:OPAQUE
UID:040000008200E00074C5B7101A82E00800000000F0FCAF6F9A0BD301000000000000000
	0100000006FB0986E23658F45BCC2FB37F86F4380
X-ALT-DESC;FMTTYPE=text/html:<!DOCTYPE HTML PUBLIC "-//W3C//DTD HTML 3.2//E
	N">\n<HTML>\n<HEAD>\n<META NAME="Generator" CONTENT="MS Exchange Server ve
	rsion 14.02.5004.000">\n<TITLE></TITLE>\n</HEAD>\n<BODY>\n<!-- Converted f
	rom text/rtf format -->\n\n<P DIR=LTR><SPAN LANG="en-nz"></SPAN><SPAN LANG
	="en-nz"><FONT FACE="Arial">Sunday 8 October and Sunday 15 October\, 10am\
	, 11.30am\, 1pm and 2.30pm</FONT></SPAN></P>\n\n<P DIR=LTR><SPAN LANG="en-
	nz"><FONT FACE="Arial">Before the Auckland Harbour Bridge\, steam ferries 
	connected the North Shore to the city. Join a tour of Toroa\, the last sur
	vivor\, currently undergoing restoration.</FONT></SPAN></P>\n\n<P DIR=LTR>
	<SPAN LANG="en-nz"></SPAN><A HREF="http://www.heritagefestival.co.nz/"><SP
	AN LANG="en-nz"></SPAN><SPAN LANG="en-nz"><U><FONT COLOR="#0000FF" FACE="A
	rial">http://www.heritagefestival.co.nz/</FONT></U></SPAN><SPAN LANG="en-n
	z"></SPAN></A><SPAN LANG="en-nz"></SPAN><SPAN LANG="en-nz"></SPAN></P>\n\n
	<P DIR=LTR><SPAN LANG="en-nz"></SPAN><SPAN LANG="en-nz"></SPAN></P>\n\n<P 
	DIR=LTR><SPAN LANG="en-nz"></SPAN><SPAN LANG="en-nz"></SPAN></P>\n\n</BODY
	>\n</HTML>
X-MICROSOFT-CDO-BUSYSTATUS:BUSY
X-MICROSOFT-CDO-IMPORTANCE:1
X-MICROSOFT-DISALLOW-COUNTER:FALSE
X-MS-OLK-AUTOFILLLOCATION:FALSE
X-MS-OLK-CONFTYPE:0
BEGIN:VALARM
TRIGGER:-PT15M
ACTION:DISPLAY
DESCRIPTION:Reminder
END:VALARM
END:VEVENT
END:VCALENDAR
