BEGIN:VCALENDAR
PRODID:-//Microsoft Corporation//Outlook 14.0 MIMEDIR//EN
VERSION:2.0
METHOD:PUBLISH
X-MS-OLK-FORCEINSPECTOROPEN:TRUE
BEGIN:VTIMEZONE
TZID:New Zealand Standard Time
BEGIN:STANDARD
DTSTART:16010401T030000
RRULE:FREQ=YEARLY;BYDAY=1SU;BYMONTH=4
TZOFFSETFROM:+1300
TZOFFSETTO:+1200
END:STANDARD
BEGIN:DAYLIGHT
DTSTART:16010930T020000
RRULE:FREQ=YEARLY;BYDAY=-1SU;BYMONTH=9
TZOFFSETFROM:+1200
TZOFFSETTO:+1300
END:DAYLIGHT
END:VTIMEZONE
BEGIN:VEVENT
CLASS:PUBLIC
CREATED:20170806T205958Z
DESCRIPTION:Each day of the festival we celebrate the spirit of our British
	 ancestors and their can-do spirit\, as they threw themselves into life in
	 New Zealand.\n\nhttp://www.heritagefestival.co.nz/\n\n
DTEND;TZID="New Zealand Standard Time":20171013T140000
DTSTAMP:20170806T205958Z
DTSTART;TZID="New Zealand Standard Time":20171002T100000
LAST-MODIFIED:20170806T205958Z
LOCATION:Bells Road\, Lloyd Elsmore Park\, Pakuranga
PRIORITY:5
SEQUENCE:0
SUMMARY;LANGUAGE=en-nz:Trouble at Sea
TRANSP:OPAQUE
UID:040000008200E00074C5B7101A82E00800000000A061C48B5B0FD301000000000000000
	010000000329F8CE3EC48324B9FA0FD4FD2EEFB41
X-ALT-DESC;FMTTYPE=text/html:<!DOCTYPE HTML PUBLIC "-//W3C//DTD HTML 3.2//E
	N">\n<HTML>\n<HEAD>\n<META NAME="Generator" CONTENT="MS Exchange Server ve
	rsion 14.02.5004.000">\n<TITLE></TITLE>\n</HEAD>\n<BODY>\n<!-- Converted f
	rom text/rtf format -->\n\n<P DIR=LTR><SPAN LANG="en-nz"></SPAN><SPAN LANG
	="en-nz"><FONT FACE="Arial">Each day of the festival we celebrate the spir
	it of our British ancestors and their can-do spirit\, as they threw themse
	lves into life in New Zealand.</FONT></SPAN></P>\n\n<P DIR=LTR><SPAN LANG=
	"en-nz"></SPAN><A HREF="http://www.heritagefestival.co.nz/"><SPAN LANG="en
	-nz"></SPAN><SPAN LANG="en-nz"><U><FONT COLOR="#0000FF" FACE="Arial">http:
	//www.heritagefestival.co.nz/</FONT></U></SPAN><SPAN LANG="en-nz"></SPAN><
	/A><SPAN LANG="en-nz"></SPAN><SPAN LANG="en-nz"></SPAN></P>\n\n<P DIR=LTR>
	<SPAN LANG="en-nz"></SPAN><SPAN LANG="en-nz"></SPAN></P>\n\n</BODY>\n</HTM
	L>
X-MICROSOFT-CDO-BUSYSTATUS:BUSY
X-MICROSOFT-CDO-IMPORTANCE:1
X-MICROSOFT-DISALLOW-COUNTER:FALSE
X-MS-OLK-AUTOFILLLOCATION:FALSE
X-MS-OLK-CONFTYPE:0
BEGIN:VALARM
TRIGGER:-PT15M
ACTION:DISPLAY
DESCRIPTION:Reminder
END:VALARM
END:VEVENT
END:VCALENDAR
