BEGIN:VCALENDAR
PRODID:-//Microsoft Corporation//Outlook 14.0 MIMEDIR//EN
VERSION:2.0
METHOD:PUBLISH
X-MS-OLK-FORCEINSPECTOROPEN:TRUE
BEGIN:VTIMEZONE
TZID:New Zealand Standard Time
BEGIN:STANDARD
DTSTART:16010401T030000
RRULE:FREQ=YEARLY;BYDAY=1SU;BYMONTH=4
TZOFFSETFROM:+1300
TZOFFSETTO:+1200
END:STANDARD
BEGIN:DAYLIGHT
DTSTART:16010930T020000
RRULE:FREQ=YEARLY;BYDAY=-1SU;BYMONTH=9
TZOFFSETFROM:+1200
TZOFFSETTO:+1300
END:DAYLIGHT
END:VTIMEZONE
BEGIN:VEVENT
CLASS:PUBLIC
CREATED:20170801T015207Z
DESCRIPTION:Saturday 30 September\, Saturday 7 October and 14 October\, 11a
	m-3pm\n\nExplore the colourful history of Tui Glen\, New Zealand's first r
	egistered motor camp.\n\nhttp://www.heritagefestival.co.nz/\n\n
DTEND;TZID="New Zealand Standard Time":20171014T150000
DTSTAMP:20170801T015207Z
DTSTART;TZID="New Zealand Standard Time":20170930T110000
LAST-MODIFIED:20170801T015207Z
LOCATION:35 Sel Peacock Drive\, Mill Cottage\, Henderson
PRIORITY:5
SEQUENCE:0
SUMMARY;LANGUAGE=en-nz:Tui Glen: New Zealand's First Motor Camp - Photo Exh
	ibition and Sunday Picnic Display
TRANSP:OPAQUE
UID:040000008200E00074C5B7101A82E00800000000D0D89C5DCD0AD301000000000000000
	010000000D587638C11A697478A072B8E7F6A33C0
X-ALT-DESC;FMTTYPE=text/html:<!DOCTYPE HTML PUBLIC "-//W3C//DTD HTML 3.2//E
	N">\n<HTML>\n<HEAD>\n<META NAME="Generator" CONTENT="MS Exchange Server ve
	rsion 14.02.5004.000">\n<TITLE></TITLE>\n</HEAD>\n<BODY>\n<!-- Converted f
	rom text/rtf format -->\n\n<P DIR=LTR><SPAN LANG="en-nz"></SPAN><SPAN LANG
	="en-nz"><FONT FACE="Arial">Saturday 30 September\, Saturday 7 October and
	 14 October\, 11am-3pm</FONT></SPAN></P>\n\n<P DIR=LTR><SPAN LANG="en-nz">
	<FONT FACE="Arial">Explore the colourful history of Tui Glen\, New Zealand
	's first registered motor camp.</FONT></SPAN></P>\n\n<P DIR=LTR><SPAN LANG
	="en-nz"></SPAN><A HREF="http://www.heritagefestival.co.nz/"><SPAN LANG="e
	n-nz"></SPAN><SPAN LANG="en-nz"><U><FONT COLOR="#0000FF" FACE="Arial">http
	://www.heritagefestival.co.nz/</FONT></U></SPAN><SPAN LANG="en-nz"></SPAN>
	</A><SPAN LANG="en-nz"></SPAN><SPAN LANG="en-nz"></SPAN></P>\n\n<P DIR=LTR
	><SPAN LANG="en-nz"></SPAN><SPAN LANG="en-nz"></SPAN></P>\n\n</BODY>\n</HT
	ML>
X-MICROSOFT-CDO-BUSYSTATUS:BUSY
X-MICROSOFT-CDO-IMPORTANCE:1
X-MICROSOFT-DISALLOW-COUNTER:FALSE
X-MS-OLK-AUTOFILLLOCATION:FALSE
X-MS-OLK-CONFTYPE:0
BEGIN:VALARM
TRIGGER:-PT15M
ACTION:DISPLAY
DESCRIPTION:Reminder
END:VALARM
END:VEVENT
END:VCALENDAR
