BEGIN:VCALENDAR
PRODID:-//Microsoft Corporation//Outlook 14.0 MIMEDIR//EN
VERSION:2.0
METHOD:PUBLISH
X-MS-OLK-FORCEINSPECTOROPEN:TRUE
BEGIN:VTIMEZONE
TZID:New Zealand Standard Time
BEGIN:STANDARD
DTSTART:16010401T030000
RRULE:FREQ=YEARLY;BYDAY=1SU;BYMONTH=4
TZOFFSETFROM:+1300
TZOFFSETTO:+1200
END:STANDARD
BEGIN:DAYLIGHT
DTSTART:16010930T020000
RRULE:FREQ=YEARLY;BYDAY=-1SU;BYMONTH=9
TZOFFSETFROM:+1200
TZOFFSETTO:+1300
END:DAYLIGHT
END:VTIMEZONE
BEGIN:VEVENT
CLASS:PUBLIC
CREATED:20170730T221909Z
DESCRIPTION:Monday 2 October - Friday 6 October\, 11am-11.45am and noon-12.
	45pm\n\nJoin us up on the roof of Auckland Museum for a bird's eye view of
	 our city\, and discover secrets of our heritage building.\n\nhttp://www.h
	eritagefestival.co.nz/\n\n
DTEND;TZID="New Zealand Standard Time":20171006T124500
DTSTAMP:20170730T221909Z
DTSTART;TZID="New Zealand Standard Time":20171002T110000
LAST-MODIFIED:20170730T221909Z
LOCATION:Auckland Domain\, Auckland War Memorial Museum\, Parnell
PRIORITY:5
SEQUENCE:0
SUMMARY;LANGUAGE=en-nz:Up on the Roof: A Heritage Bird's Eye View of Auckla
	nd
TRANSP:OPAQUE
UID:040000008200E00074C5B7101A82E00800000000209DC972E609D301000000000000000
	01000000088446C95B386844DADCC0EEA039CC071
X-ALT-DESC;FMTTYPE=text/html:<!DOCTYPE HTML PUBLIC "-//W3C//DTD HTML 3.2//E
	N">\n<HTML>\n<HEAD>\n<META NAME="Generator" CONTENT="MS Exchange Server ve
	rsion 14.02.5004.000">\n<TITLE></TITLE>\n</HEAD>\n<BODY>\n<!-- Converted f
	rom text/rtf format -->\n\n<P DIR=LTR><SPAN LANG="en-nz"></SPAN><SPAN LANG
	="en-nz"><FONT FACE="Arial">Monday 2 October - Friday 6 October\, 11am-11.
	45am and noon-12.45pm</FONT></SPAN></P>\n\n<P DIR=LTR><SPAN LANG="en-nz"><
	FONT FACE="Arial">Join us up on the roof of Auckland Museum for a bird's e
	ye view of our city\, and discover secrets of our heritage building.</FONT
	></SPAN></P>\n\n<P DIR=LTR><SPAN LANG="en-nz"></SPAN><A HREF="http://www.h
	eritagefestival.co.nz/"><SPAN LANG="en-nz"></SPAN><SPAN LANG="en-nz"><U><F
	ONT COLOR="#0000FF" FACE="Arial">http://www.heritagefestival.co.nz/</FONT>
	</U></SPAN><SPAN LANG="en-nz"></SPAN></A><SPAN LANG="en-nz"></SPAN><SPAN L
	ANG="en-nz"></SPAN></P>\n\n<P DIR=LTR><SPAN LANG="en-nz"></SPAN><SPAN LANG
	="en-nz"></SPAN></P>\n\n</BODY>\n</HTML>
X-MICROSOFT-CDO-BUSYSTATUS:BUSY
X-MICROSOFT-CDO-IMPORTANCE:1
X-MICROSOFT-DISALLOW-COUNTER:FALSE
X-MS-OLK-AUTOFILLLOCATION:FALSE
X-MS-OLK-CONFTYPE:0
BEGIN:VALARM
TRIGGER:-PT15M
ACTION:DISPLAY
DESCRIPTION:Reminder
END:VALARM
END:VEVENT
END:VCALENDAR
