BEGIN:VCALENDAR
PRODID:-//Microsoft Corporation//Outlook 14.0 MIMEDIR//EN
VERSION:2.0
METHOD:PUBLISH
X-MS-OLK-FORCEINSPECTOROPEN:TRUE
BEGIN:VTIMEZONE
TZID:New Zealand Standard Time
BEGIN:STANDARD
DTSTART:16010401T030000
RRULE:FREQ=YEARLY;BYDAY=1SU;BYMONTH=4
TZOFFSETFROM:+1300
TZOFFSETTO:+1200
END:STANDARD
BEGIN:DAYLIGHT
DTSTART:16010930T020000
RRULE:FREQ=YEARLY;BYDAY=-1SU;BYMONTH=9
TZOFFSETFROM:+1200
TZOFFSETTO:+1300
END:DAYLIGHT
END:VTIMEZONE
BEGIN:VEVENT
CLASS:PUBLIC
CREATED:20170803T015901Z
DESCRIPTION:Saturday 30 September\, Saturday 7 October and Saturday 14 Octo
	ber\, 10am-4pm\n\nVisit St Stephen's Chapel on the Whangaparaoa Peninsula.
	 Celebrate 100 years since it's construction.\n\nhttp://www.heritagefestiv
	al.co.nz/\n
DTEND;TZID="New Zealand Standard Time":20171014T160000
DTSTAMP:20170803T015901Z
DTSTART;TZID="New Zealand Standard Time":20170930T100000
LAST-MODIFIED:20170803T015901Z
LOCATION:3 Stanmore Bay Road\, St Stephen's Chapel\, Whangaparaoa
PRIORITY:5
SEQUENCE:0
SUMMARY;LANGUAGE=en-nz:Visit St Stephen's Chapel - 100 Years Old
TRANSP:OPAQUE
UID:040000008200E00074C5B7101A82E0080000000090CC2BA9600CD301000000000000000
	010000000805867799BF4B844A481ED92E8CCFB80
X-ALT-DESC;FMTTYPE=text/html:<!DOCTYPE HTML PUBLIC "-//W3C//DTD HTML 3.2//E
	N">\n<HTML>\n<HEAD>\n<META NAME="Generator" CONTENT="MS Exchange Server ve
	rsion 14.02.5004.000">\n<TITLE></TITLE>\n</HEAD>\n<BODY>\n<!-- Converted f
	rom text/rtf format -->\n\n<P DIR=LTR><SPAN LANG="en-nz"></SPAN><SPAN LANG
	="en-nz"><FONT FACE="Arial">Saturday 30 September\, Saturday 7 October and
	 Saturday 14 October\, 10am-4pm</FONT></SPAN></P>\n\n<P DIR=LTR><SPAN LANG
	="en-nz"><FONT FACE="Arial">Visit St Stephen's Chapel on the Whangaparaoa 
	Peninsula. Celebrate 100 years since it's construction.</FONT></SPAN></P>\
	n\n<P DIR=LTR><SPAN LANG="en-nz"></SPAN><A HREF="http://www.heritagefestiv
	al.co.nz/"><SPAN LANG="en-nz"></SPAN><SPAN LANG="en-nz"><U><FONT COLOR="#0
	000FF" FACE="Arial">http://www.heritagefestival.co.nz/</FONT></U></SPAN><S
	PAN LANG="en-nz"></SPAN></A><SPAN LANG="en-nz"></SPAN><SPAN LANG="en-nz"><
	/SPAN></P>\n\n</BODY>\n</HTML>
X-MICROSOFT-CDO-BUSYSTATUS:BUSY
X-MICROSOFT-CDO-IMPORTANCE:1
X-MICROSOFT-DISALLOW-COUNTER:FALSE
X-MS-OLK-AUTOFILLLOCATION:FALSE
X-MS-OLK-CONFTYPE:0
BEGIN:VALARM
TRIGGER:-PT15M
ACTION:DISPLAY
DESCRIPTION:Reminder
END:VALARM
END:VEVENT
END:VCALENDAR
