BEGIN:VCALENDAR
PRODID:-//Microsoft Corporation//Outlook 14.0 MIMEDIR//EN
VERSION:2.0
METHOD:PUBLISH
X-MS-OLK-FORCEINSPECTOROPEN:TRUE
BEGIN:VTIMEZONE
TZID:New Zealand Standard Time
BEGIN:STANDARD
DTSTART:16010401T030000
RRULE:FREQ=YEARLY;BYDAY=1SU;BYMONTH=4
TZOFFSETFROM:+1300
TZOFFSETTO:+1200
END:STANDARD
BEGIN:DAYLIGHT
DTSTART:16010930T020000
RRULE:FREQ=YEARLY;BYDAY=-1SU;BYMONTH=9
TZOFFSETFROM:+1200
TZOFFSETTO:+1300
END:DAYLIGHT
END:VTIMEZONE
BEGIN:VEVENT
CLASS:PUBLIC
CREATED:20170727T204913Z
DESCRIPTION:The story of Wai Horotiu and its disappearance from our landsca
	pe is part of the foundation of the city of Auckland.\n\nwww.heritagefesti
	val.co.nz/\n\n
DTEND;TZID="New Zealand Standard Time":20171011T130000
DTSTAMP:20170727T204913Z
DTSTART;TZID="New Zealand Standard Time":20171011T120000
LAST-MODIFIED:20170727T204913Z
LOCATION:44 Lorne Street\, Whare Wānanga\, Level 2\, Central City Librar
	y\, Auckland Central
PRIORITY:5
SEQUENCE:0
SUMMARY;LANGUAGE=en-nz:Wai Horotiu - Queen Street's Hidden Stream with Lisa
	 Truttman
TRANSP:OPAQUE
UID:040000008200E00074C5B7101A82E0080000000070DCF5627E07D301000000000000000
	010000000532800BCD0BFA14182F5367CF90DFF39
X-ALT-DESC;FMTTYPE=text/html:<!DOCTYPE HTML PUBLIC "-//W3C//DTD HTML 3.2//E
	N">\n<HTML>\n<HEAD>\n<META NAME="Generator" CONTENT="MS Exchange Server ve
	rsion 14.02.5004.000">\n<TITLE></TITLE>\n</HEAD>\n<BODY>\n<!-- Converted f
	rom text/rtf format -->\n\n<P DIR=LTR><SPAN LANG="en-nz"></SPAN><SPAN LANG
	="en-nz"><FONT FACE="Arial">The story of Wai Horotiu and its disappearance
	 from our landscape is part of the foundation of the city of Auckland.</FO
	NT></SPAN><SPAN LANG="en-nz"></SPAN><SPAN LANG="en-nz"></SPAN></P>\n\n<P D
	IR=LTR><SPAN LANG="en-nz"></SPAN><A HREF="http://www.heritagefestival.co.n
	z/"><SPAN LANG="en-nz"></SPAN><SPAN LANG="en-nz"><U><FONT COLOR="#0000FF" 
	FACE="Arial">www.heritagefestival.co.nz/</FONT></U></SPAN><SPAN LANG="en-n
	z"></SPAN></A><SPAN LANG="en-nz"></SPAN><SPAN LANG="en-nz"></SPAN></P>\n\n
	<P DIR=LTR><SPAN LANG="en-nz"></SPAN><SPAN LANG="en-nz"></SPAN></P>\n\n</B
	ODY>\n</HTML>
X-MICROSOFT-CDO-BUSYSTATUS:BUSY
X-MICROSOFT-CDO-IMPORTANCE:1
X-MICROSOFT-DISALLOW-COUNTER:FALSE
X-MS-OLK-AUTOFILLLOCATION:FALSE
X-MS-OLK-CONFTYPE:0
BEGIN:VALARM
TRIGGER:-PT15M
ACTION:DISPLAY
DESCRIPTION:Reminder
END:VALARM
END:VEVENT
END:VCALENDAR
