BEGIN:VCALENDAR
PRODID:-//Microsoft Corporation//Outlook 14.0 MIMEDIR//EN
VERSION:2.0
METHOD:PUBLISH
X-MS-OLK-FORCEINSPECTOROPEN:TRUE
BEGIN:VTIMEZONE
TZID:New Zealand Standard Time
BEGIN:STANDARD
DTSTART:16010401T030000
RRULE:FREQ=YEARLY;BYDAY=1SU;BYMONTH=4
TZOFFSETFROM:+1300
TZOFFSETTO:+1200
END:STANDARD
BEGIN:DAYLIGHT
DTSTART:16010930T020000
RRULE:FREQ=YEARLY;BYDAY=-1SU;BYMONTH=9
TZOFFSETFROM:+1200
TZOFFSETTO:+1300
END:DAYLIGHT
END:VTIMEZONE
BEGIN:VEVENT
CLASS:PUBLIC
CREATED:20170806T205306Z
DESCRIPTION:Follow twenty five signs along the waterfront\, documenting the
	 heritage foreshore prior to reclamation. Walk between Te Okā / Point Eri
	n and Taurarua / Point Resolution.\n\nhttp://www.heritagefestival.co.nz/\n
	\n\n
DTEND;TZID="New Zealand Standard Time":20171008T120000
DTSTAMP:20170806T205306Z
DTSTART;TZID="New Zealand Standard Time":20171008T100000
LAST-MODIFIED:20170806T205306Z
LOCATION:Starts at Point Erin Park\, St Marys Bay
PRIORITY:5
SEQUENCE:0
SUMMARY;LANGUAGE=en-nz:Walk the Foreshore Heritage Trail
TRANSP:OPAQUE
UID:040000008200E00074C5B7101A82E00800000000709F20965A0FD301000000000000000
	010000000CA2923C657969E459ECCB29F6B02341B
X-ALT-DESC;FMTTYPE=text/html:<!DOCTYPE HTML PUBLIC "-//W3C//DTD HTML 3.2//E
	N">\n<HTML>\n<HEAD>\n<META NAME="Generator" CONTENT="MS Exchange Server ve
	rsion 14.02.5004.000">\n<TITLE></TITLE>\n</HEAD>\n<BODY>\n<!-- Converted f
	rom text/rtf format -->\n\n<P DIR=LTR><SPAN LANG="en-nz"></SPAN><SPAN LANG
	="en-nz"><FONT FACE="Arial Baltic">Follow twenty five signs along the wate
	rfront\, documenting the heritage foreshore prior to reclamation. Walk bet
	ween Te Okā / Point Erin and Taurarua / Point Resolution.</FONT></SPAN></
	P>\n\n<P DIR=LTR><SPAN LANG="en-nz"></SPAN><SPAN LANG="en-nz"></SPAN></P>\
	n\n<P DIR=LTR><SPAN LANG="en-nz"></SPAN><A HREF="http://www.heritagefestiv
	al.co.nz/"><SPAN LANG="en-nz"></SPAN><SPAN LANG="en-nz"><U><FONT COLOR="#0
	000FF" FACE="Arial">http://www.heritagefestival.co.nz/</FONT></U></SPAN><S
	PAN LANG="en-nz"></SPAN></A><SPAN LANG="en-nz"></SPAN><SPAN LANG="en-nz"><
	/SPAN></P>\n\n<P DIR=LTR><SPAN LANG="en-nz"></SPAN><SPAN LANG="en-nz"></SP
	AN></P>\n\n<P DIR=LTR><SPAN LANG="en-nz"></SPAN><SPAN LANG="en-nz"></SPAN>
	</P>\n\n</BODY>\n</HTML>
X-MICROSOFT-CDO-BUSYSTATUS:BUSY
X-MICROSOFT-CDO-IMPORTANCE:1
X-MICROSOFT-DISALLOW-COUNTER:FALSE
X-MS-OLK-AUTOFILLLOCATION:FALSE
X-MS-OLK-CONFTYPE:0
BEGIN:VALARM
TRIGGER:-PT15M
ACTION:DISPLAY
DESCRIPTION:Reminder
END:VALARM
END:VEVENT
END:VCALENDAR
