BEGIN:VCALENDAR
PRODID:-//Microsoft Corporation//Outlook 14.0 MIMEDIR//EN
VERSION:2.0
METHOD:PUBLISH
X-MS-OLK-FORCEINSPECTOROPEN:TRUE
BEGIN:VTIMEZONE
TZID:New Zealand Standard Time
BEGIN:STANDARD
DTSTART:16010401T030000
RRULE:FREQ=YEARLY;BYDAY=1SU;BYMONTH=4
TZOFFSETFROM:+1300
TZOFFSETTO:+1200
END:STANDARD
BEGIN:DAYLIGHT
DTSTART:16010930T020000
RRULE:FREQ=YEARLY;BYDAY=-1SU;BYMONTH=9
TZOFFSETFROM:+1200
TZOFFSETTO:+1300
END:DAYLIGHT
END:VTIMEZONE
BEGIN:VEVENT
CLASS:PUBLIC
CREATED:20170727T225354Z
DESCRIPTION:We will walk the New Lynn portage from the Pacific Ocean to the
	 Tasman Sea about two hours there and back. We ask you to carry a boat of 
	your own. Maybe a boat hat or small model boat.\n\nhttp://www.heritagefest
	ival.co.nz/\n\n\n\n
DTEND;TZID="New Zealand Standard Time":20171015T123000
DTSTAMP:20170727T225354Z
DTSTART;TZID="New Zealand Standard Time":20171015T103000
LAST-MODIFIED:20170727T225354Z
LOCATION:Portage Road\, Karaka Park\, New Lynn
PRIORITY:5
SEQUENCE:0
SUMMARY;LANGUAGE=en-nz:Walk the Portage - West
TRANSP:OPAQUE
UID:040000008200E00074C5B7101A82E00800000000F00C1ECE8F07D301000000000000000
	010000000903C9085D18B8F4580F5D03540CBBBF0
X-ALT-DESC;FMTTYPE=text/html:<!DOCTYPE HTML PUBLIC "-//W3C//DTD HTML 3.2//E
	N">\n<HTML>\n<HEAD>\n<META NAME="Generator" CONTENT="MS Exchange Server ve
	rsion 14.02.5004.000">\n<TITLE></TITLE>\n</HEAD>\n<BODY>\n<!-- Converted f
	rom text/rtf format -->\n\n<P DIR=LTR><SPAN LANG="en-nz"></SPAN><SPAN LANG
	="en-nz"><FONT FACE="Arial">We will walk the New Lynn portage from the Pac
	ific Ocean to the Tasman Sea about two hours there and back. We ask you to
	 carry a boat of your own. Maybe a boat hat or small model boat.</FONT></
	SPAN><SPAN LANG="en-nz"></SPAN><SPAN LANG="en-nz"></SPAN></P>\n\n<P DIR=LT
	R><SPAN LANG="en-nz"></SPAN><A HREF="http://www.heritagefestival.co.nz/"><
	SPAN LANG="en-nz"></SPAN><SPAN LANG="en-nz"><U><FONT COLOR="#0000FF" FACE=
	"Arial">http://www.heritagefestival.co.nz/</FONT></U></SPAN><SPAN LANG="en
	-nz"></SPAN></A><SPAN LANG="en-nz"></SPAN><SPAN LANG="en-nz"></SPAN></P>\n
	\n<P DIR=LTR><SPAN LANG="en-nz"></SPAN><SPAN LANG="en-nz"></SPAN></P>\n\n<
	P DIR=LTR><SPAN LANG="en-nz"></SPAN><SPAN LANG="en-nz"></SPAN></P>\n\n<P D
	IR=LTR><SPAN LANG="en-nz"></SPAN><SPAN LANG="en-nz"></SPAN></P>\n\n</BODY>
	\n</HTML>
X-MICROSOFT-CDO-BUSYSTATUS:BUSY
X-MICROSOFT-CDO-IMPORTANCE:1
X-MICROSOFT-DISALLOW-COUNTER:FALSE
X-MS-OLK-AUTOFILLLOCATION:FALSE
X-MS-OLK-CONFTYPE:0
BEGIN:VALARM
TRIGGER:-PT15M
ACTION:DISPLAY
DESCRIPTION:Reminder
END:VALARM
END:VEVENT
END:VCALENDAR
