BEGIN:VCALENDAR
PRODID:-//Microsoft Corporation//Outlook 14.0 MIMEDIR//EN
VERSION:2.0
METHOD:PUBLISH
X-MS-OLK-FORCEINSPECTOROPEN:TRUE
BEGIN:VTIMEZONE
TZID:New Zealand Standard Time
BEGIN:STANDARD
DTSTART:16010401T030000
RRULE:FREQ=YEARLY;BYDAY=1SU;BYMONTH=4
TZOFFSETFROM:+1300
TZOFFSETTO:+1200
END:STANDARD
BEGIN:DAYLIGHT
DTSTART:16010930T020000
RRULE:FREQ=YEARLY;BYDAY=-1SU;BYMONTH=9
TZOFFSETFROM:+1200
TZOFFSETTO:+1300
END:DAYLIGHT
END:VTIMEZONE
BEGIN:VEVENT
CLASS:PUBLIC
CREATED:20170803T022314Z
DESCRIPTION:Tuesday 3 and Tuesday 10 October\, 12pm-1pm and Saturday 14 Oct
	ober\, 2pm-3pm\n\nDiscover the traces that remain of Auckland’s fashion 
	history on this walking tour of the inner city. Listen to stories about Au
	ckland’s fashionable past.\n\nhttp://www.heritagefestival.co.nz/\n\n\n\n
	\n\n
DTEND;TZID="New Zealand Standard Time":20171014T150000
DTSTAMP:20170803T022314Z
DTSTART;TZID="New Zealand Standard Time":20171003T120000
LAST-MODIFIED:20170803T022314Z
LOCATION:Corner of Albert Sreet\, 42 Wellesley Street\, Meet at Info Hub\, 
	Auckland Central
PRIORITY:5
SEQUENCE:0
SUMMARY;LANGUAGE=en-nz:Walk the Walk: A History of Fashion in the City
TRANSP:OPAQUE
UID:040000008200E00074C5B7101A82E008000000008000C10A640CD301000000000000000
	010000000E86272B53845694AA2381A7D0ACA5162
X-ALT-DESC;FMTTYPE=text/html:<!DOCTYPE HTML PUBLIC "-//W3C//DTD HTML 3.2//E
	N">\n<HTML>\n<HEAD>\n<META NAME="Generator" CONTENT="MS Exchange Server ve
	rsion 14.02.5004.000">\n<TITLE></TITLE>\n</HEAD>\n<BODY>\n<!-- Converted f
	rom text/rtf format -->\n\n<P DIR=LTR><SPAN LANG="en-nz"></SPAN><SPAN LANG
	="en-nz"><FONT FACE="Arial">Tuesday 3 and Tuesday 10 October\, 12pm-1pm an
	d Saturday 14 October\, 2pm-3pm</FONT></SPAN></P>\n\n<P DIR=LTR><SPAN LANG
	="en-nz"><FONT FACE="Arial">Discover the traces that remain of Auckland’
	s fashion history on this walking tour of the inner city. Listen to storie
	s about Auckland’s fashionable past.</FONT></SPAN></P>\n\n<P DIR=LTR><SP
	AN LANG="en-nz"></SPAN><A HREF="http://www.heritagefestival.co.nz/"><SPAN 
	LANG="en-nz"></SPAN><SPAN LANG="en-nz"><U><FONT COLOR="#0000FF" FACE="Aria
	l">http://www.heritagefestival.co.nz/</FONT></U></SPAN><SPAN LANG="en-nz">
	</SPAN></A><SPAN LANG="en-nz"></SPAN><SPAN LANG="en-nz"></SPAN></P>\n\n<P 
	DIR=LTR><SPAN LANG="en-nz"></SPAN><SPAN LANG="en-nz"></SPAN></P>\n<BR>\n<B
	R>\n\n<P DIR=LTR><SPAN LANG="en-nz"></SPAN><SPAN LANG="en-nz"></SPAN></P>\
	n\n</BODY>\n</HTML>
X-MICROSOFT-CDO-BUSYSTATUS:BUSY
X-MICROSOFT-CDO-IMPORTANCE:1
X-MICROSOFT-DISALLOW-COUNTER:FALSE
X-MS-OLK-AUTOFILLLOCATION:FALSE
X-MS-OLK-CONFTYPE:0
BEGIN:VALARM
TRIGGER:-PT15M
ACTION:DISPLAY
DESCRIPTION:Reminder
END:VALARM
END:VEVENT
END:VCALENDAR
