BEGIN:VCALENDAR
PRODID:-//Microsoft Corporation//Outlook 14.0 MIMEDIR//EN
VERSION:2.0
METHOD:PUBLISH
X-MS-OLK-FORCEINSPECTOROPEN:TRUE
BEGIN:VTIMEZONE
TZID:New Zealand Standard Time
BEGIN:STANDARD
DTSTART:16010401T030000
RRULE:FREQ=YEARLY;BYDAY=1SU;BYMONTH=4
TZOFFSETFROM:+1300
TZOFFSETTO:+1200
END:STANDARD
BEGIN:DAYLIGHT
DTSTART:16010930T020000
RRULE:FREQ=YEARLY;BYDAY=-1SU;BYMONTH=9
TZOFFSETFROM:+1200
TZOFFSETTO:+1300
END:DAYLIGHT
END:VTIMEZONE
BEGIN:VEVENT
CLASS:PUBLIC
CREATED:20170731T025629Z
DESCRIPTION:Saturday 30 September - Sunday 15 October\, Saturday\, Sunday a
	nd Wednesday 1pm-4pm\n\nCome and see charts and photographs showing the ea
	rly days of coastal North Auckland when traffic and transport was all by s
	ea or rivers.\n\nhttp://www.heritagefestival.co.nz/\n\n\n
DTEND;TZID="New Zealand Standard Time":20171015T160000
DTSTAMP:20170731T025629Z
DTSTART;TZID="New Zealand Standard Time":20170930T130000
LAST-MODIFIED:20170731T025629Z
LOCATION:Wenderholm Regional Park\, Schischka Road\, Couldrey House\, Waiwe
	ra
PRIORITY:5
SEQUENCE:0
SUMMARY;LANGUAGE=en-nz:Yesterday's Motorways were the Gulf and the Rivers
TRANSP:OPAQUE
UID:040000008200E00074C5B7101A82E00800000000C06EF5300D0AD301000000000000000
	0100000009550D54AA17CAE47B77F6404B0D22678
X-ALT-DESC;FMTTYPE=text/html:<!DOCTYPE HTML PUBLIC "-//W3C//DTD HTML 3.2//E
	N">\n<HTML>\n<HEAD>\n<META NAME="Generator" CONTENT="MS Exchange Server ve
	rsion 14.02.5004.000">\n<TITLE></TITLE>\n</HEAD>\n<BODY>\n<!-- Converted f
	rom text/rtf format -->\n\n<P DIR=LTR><SPAN LANG="en-nz"></SPAN><SPAN LANG
	="en-nz"><FONT FACE="Arial">Saturday 30 September - Sunday 15 October\, Sa
	turday\, Sunday and Wednesday 1pm-4pm</FONT></SPAN><SPAN LANG="en-nz"></SP
	AN><SPAN LANG="en-nz"></SPAN></P>\n\n<P DIR=LTR><SPAN LANG="en-nz"></SPAN>
	<SPAN LANG="en-nz"></SPAN></P>\n\n<P DIR=LTR><SPAN LANG="en-nz"></SPAN><SP
	AN LANG="en-nz"><FONT FACE="Arial">Come and see charts and photographs sho
	wing the early days of coastal North Auckland when traffic and transport w
	as all by sea or rivers.</FONT></SPAN></P>\n\n<P DIR=LTR><SPAN LANG="en-nz
	"></SPAN><A HREF="http://www.heritagefestival.co.nz/"><SPAN LANG="en-nz"><
	/SPAN><SPAN LANG="en-nz"><U><FONT COLOR="#0000FF" FACE="Arial">http://www.
	heritagefestival.co.nz/</FONT></U></SPAN><SPAN LANG="en-nz"></SPAN></A><SP
	AN LANG="en-nz"></SPAN><SPAN LANG="en-nz"></SPAN></P>\n\n<P DIR=LTR><SPAN 
	LANG="en-nz"></SPAN><SPAN LANG="en-nz"></SPAN></P>\n\n<P DIR=LTR><SPAN LAN
	G="en-nz"></SPAN><SPAN LANG="en-nz"></SPAN></P>\n\n</BODY>\n</HTML>
X-MICROSOFT-CDO-BUSYSTATUS:BUSY
X-MICROSOFT-CDO-IMPORTANCE:1
X-MICROSOFT-DISALLOW-COUNTER:FALSE
X-MS-OLK-AUTOFILLLOCATION:FALSE
X-MS-OLK-CONFTYPE:0
BEGIN:VALARM
TRIGGER:-PT15M
ACTION:DISPLAY
DESCRIPTION:Reminder
END:VALARM
END:VEVENT
END:VCALENDAR
